BEGIN:VCALENDAR
VERSION:2.0
PRODID:-//ChamberMaster//Event Calendar 2.0//EN
METHOD:PUBLISH
X-PUBLISHED-TTL:P3D
REFRESH-INTERVAL:P3D
CALSCALE:GREGORIAN
BEGIN:VEVENT
DTSTART:20160408T233000Z
DTEND:20160409T013000Z
X-MICROSOFT-CDO-ALLDAYEVENT:FALSE
SUMMARY:A Tribute to the King starring Travis LeDoyt
DESCRIPTION:Date: April 8\, 2016 Show Time: 7:30pm Ticket Prices: $20\, $25 Travis LeDoyt was born the third of five children\, in Greenfield Massachusetts\, in the late 1970's and it was evident at an early age that Travis seemed destined to entertain. His impish behavior and clever wit were responsible for providing a good deal of levity and laughter within the LeDoyt household. Growing up\, Travis was exposed to a broad variety of musical styles\, from Country to Swing\, to Rock & Roll\, as well as Classical and before long\, Travis was writing his own songs. Over the years\, Travis LeDoyt has developed into a truly remarkable talent\; singer\, performer\, songwriter\, and musician (piano\, keyboard\, guitar)\, but most of all he is fast becoming one of America's most convincing\, jaw-dropping Elvis tribute acts ever to grace the stage. Travis flawlessly captures the essence of Elvis in his prime\, presenting hits and ambiance of 1954-1959. The award-winning LeDoyt was featured in the NY Times as the "World's Best Young Elvis."
X-ALT-DESC;FMTTYPE=text/html:Date: April 8\, 2016 Show Time: 7:30pm Ticket Prices: $20\, $25 Travis LeDoyt was born the third of five children\, in Greenfield Massachusetts\, in the late 1970&#39\;s and it was evident at an early age that Travis seemed destined to entertain. His impish behavior and clever wit were responsible for providing a good deal of levity and laughter within the LeDoyt household. Growing up\, Travis was exposed to a broad variety of musical styles\, from Country to Swing\, to Rock &amp\; Roll\, as well as Classical and before long\, Travis was writing his own songs. Over the years\, Travis LeDoyt has developed into a truly remarkable talent\; singer\, performer\, songwriter\, and musician (piano\, keyboard\, guitar)\, but most of all he is fast becoming one of America&#39\;s most convincing\, jaw-dropping Elvis tribute acts ever to grace the stage. Travis flawlessly captures the essence of Elvis in his prime\, presenting hits and ambiance of 1954-1959. The award-winning LeDoyt was featured in the NY Times as the &quot\;World&#39\;s Best Young Elvis.&quot\;
LOCATION:Smoky Mountain Center for the Performing Arts 1028 Georgia Road Franklin\, NC 28734
UID:e.256.48257
SEQUENCE:3
DTSTAMP:20260421T002834Z
URL:https://members.visitblairsvillega.com/events/details/a-tribute-to-the-king-starring-travis-ledoyt-04-08-2016-48257
END:VEVENT

END:VCALENDAR
