BEGIN:VCALENDAR
VERSION:2.0
PRODID:-//ChamberMaster//Event Calendar 2.0//EN
METHOD:PUBLISH
X-PUBLISHED-TTL:P3D
REFRESH-INTERVAL:P3D
CALSCALE:GREGORIAN
BEGIN:VEVENT
DTSTART:20160903T233000Z
DTEND:20160904T013000Z
X-MICROSOFT-CDO-ALLDAYEVENT:FALSE
SUMMARY:A Tribute to the Music of John Denver starring Jim Curry
DESCRIPTION:The untimely death of John Denver in 1997 was a tragedy that was felt the world over and left his fans demanding that his music survive. Jim Curry\, whose natural singing voice has always been similar to that of the late\, great Denver\, is the man for the job. He captures the essence of John Denver's music\, even featuring many former John Denver band members and back up singers\, as he performs multi-platinum hits like "Rocky Mountain High\," "Annie's Song" and "Country Roads." Jim Curry's mission is to share John's positive message of love & humanity through great music.
X-ALT-DESC;FMTTYPE=text/html:The untimely death of John Denver in 1997 was a tragedy that was felt the world over and left his fans demanding that his music survive. Jim Curry\, whose natural singing voice has always been similar to that of the late\, great Denver\, is the man for the job. He captures the essence of John Denver&#39\;s music\, even featuring many former John Denver band members and back up singers\, as he performs multi-platinum hits like &quot\;Rocky Mountain High\,&quot\; &quot\;Annie&#39\;s Song&quot\; and &quot\;Country Roads.&quot\; Jim Curry&#39\;s mission is to share John&#39\;s positive message of love &amp\; humanity through great music.
LOCATION:Smoky Mountain Center for the Performing Arts 1028 Georgia Road Franklin\, NC 28734
UID:e.256.49404
SEQUENCE:3
DTSTAMP:20260420T165443Z
URL:https://members.visitblairsvillega.com/events/details/a-tribute-to-the-music-of-john-denver-starring-jim-curry-09-03-2016-49404
END:VEVENT

END:VCALENDAR
