BEGIN:VCALENDAR
VERSION:2.0
PRODID:-//ChamberMaster//Event Calendar 2.0//EN
METHOD:PUBLISH
X-PUBLISHED-TTL:P3D
REFRESH-INTERVAL:P3D
CALSCALE:GREGORIAN
BEGIN:VEVENT
DTSTART:20140911T123000Z
DTEND:20140911T123000Z
X-MICROSOFT-CDO-ALLDAYEVENT:FALSE
SUMMARY:AARP Smart Driver Course
DESCRIPTION:AARP Smart Driving Course\n\nThursday\, September 11\, 2014\n\nSign In at 8:30am  Instructions Start at 9am\n\n\n\nCourse consist of 6 hours of instruction\n\nstarting promptly at 9am and ending at 4pm.\n\nam & pm break & 40 minute Lunch Break (suggested you bring your own snacks and lunch)\n\nCoffee\, tea and bottled water provided\n\nSenior Center is handicapped accessible
X-ALT-DESC;FMTTYPE=text/html:AARP Smart Driving Course<br />\nThursday\, September 11\, 2014<br />\nSign In at 8:30am&nbsp\; Instructions Start at 9am<br />\n<br />\nCourse consist of 6 hours of instruction<br />\nstarting promptly at 9am and ending at 4pm.<br />\nam &amp\; pm break &amp\; 40 minute Lunch Break (suggested you bring your own snacks and lunch)<br />\nCoffee\, tea and bottled water provided<br />\nSenior Center is handicapped accessible&nbsp\;<br />\n<br />\n&nbsp\;
LOCATION:Union County Senior Center 95 Senior Center Drive Blairsville\, GA
UID:e.256.27324
SEQUENCE:3
DTSTAMP:20260424T061128Z
URL:https://members.visitblairsvillega.com/events/details/aarp-smart-driver-course-09-11-2014-27324
END:VEVENT

END:VCALENDAR
