BEGIN:VCALENDAR
VERSION:2.0
PRODID:-//ChamberMaster//Event Calendar 2.0//EN
METHOD:PUBLISH
X-PUBLISHED-TTL:P3D
REFRESH-INTERVAL:P3D
CALSCALE:GREGORIAN
BEGIN:VEVENT
DTSTART:20140814T140000Z
DTEND:20140814T160000Z
X-MICROSOFT-CDO-ALLDAYEVENT:FALSE
SUMMARY:Accommodations Tax 101: Utilizing Hotel/Motel Tax Dollars
DESCRIPTION:Accommodations Tax 101: \n\nUtilizing Hotel-Motel \n\nTax Dollars \n\nin Your Community \n\n \n\n \n\nTopics Include: \n\nGovernment's Right to Impose a Tax * Decision-making and Planning * Collecting the Tax * Spending the Tax Dollars * After the Money is Spent * Questions and Answers \n\n \n\n \n\nPresented By: \n\nJonathan Sharpe\, Manager \n\nOffice of Research and Surveys \n\nGA Dept. of Community Affairs \n\n \n\n \n\nPlease RSVP by 3pm on Monday\, August 11 to: \n\npresident@blairsvillechamber.com or (706) 745-5789 \n\ncandacelee@brmemc.net or (706) 896-4966 \n\n \n\n \n\nWhere: Union County Community Center \n\n129 Union County Recreation Road Blairsville\, GA 30512 \n\nWhen: Thursday\, August 14\, 2014 10:00am - Noon
X-ALT-DESC;FMTTYPE=text/html:<span style="font-size: 10pt\;"><span style="font-family: cambria\,serif\;">Accommodations Tax 101: </span></span><br />\n<span style="font-size: 10pt\;"><span style="font-family: cambria\,serif\;">Utilizing Hotel-Motel </span></span><br />\n<span style="font-size: 10pt\;"><span style="font-family: cambria\,serif\;">Tax Dollars </span></span><br />\n<span style="font-size: 10pt\;"><span style="font-family: cambria\,serif\;">in Your Community </span></span><br />\n&nbsp\;<br />\n&nbsp\;<br />\n<span style="font-size: 10pt\;"><span style="font-family: cambria\,serif\;"><span style="color: windowtext\;">Topics Include: </span></span></span><br />\n<span style="font-size: 10pt\;"><span style="font-family: cambria\,serif\;"><span style="color: windowtext\;">Government&rsquo\;s Right to Impose a Tax * Decision-making and Planning * Collecting the Tax * Spending the Tax Dollars * After the Money is Spent * Questions and Answers </span></span></span><br />\n&nbsp\;<br />\n&nbsp\;<br />\n<span style="font-size: 10pt\;"><span style="font-family: cambria\,serif\;"><span style="color: windowtext\;">Presented By: </span></span></span><br />\n<span style="font-size: 10pt\;"><span style="font-family: cambria\,serif\;"><span style="color: windowtext\;">Jonathan Sharpe\, Manager </span></span></span><br />\n<span style="font-size: 10pt\;"><span style="font-family: cambria\,serif\;"><span style="color: windowtext\;">Office of Research and Surveys </span></span></span><br />\n<span style="font-size: 10pt\;"><span style="font-family: cambria\,serif\;"><span style="color: windowtext\;">GA Dept. of Community Affairs </span></span></span><br />\n&nbsp\;<br />\n&nbsp\;<br />\n<strong><span style="font-size: 10pt\;"><span style="font-family: cambria\,serif\;"><span style="color: windowtext\;">Please RSVP by 3pm on Monday\, August 11 to: </span></span></span><br />\n<span style="font-size: 10pt\;"><span style="font-family: cambria\,serif\;"><span style="color: windowtext\;">president@blairsvillechamber.com or (706) 745-5789 </span></span></span><br />\n<span style="font-size: 10pt\;"><span style="font-family: cambria\,serif\;"><span style="color: windowtext\;">candacelee@brmemc.net or (706) 896-4966 </span></span></span></strong><br />\n&nbsp\;<br />\n&nbsp\;<br />\n<span style="font-size: 10pt\;"><span style="font-family: cambria\,serif\;"><span style="color: windowtext\;">Where: Union County Community Center </span></span></span><br />\n<span style="font-size: 10pt\;"><span style="font-family: cambria\,serif\;"><span style="color: windowtext\;">129 Union County Recreation Road Blairsville\, GA 30512 </span></span></span><br />\n<span style="font-size: 10pt\;"><span style="font-family: cambria\,serif\;">When: Thursday\, August 14\, 2014 10:00am - Noon</span></span><br />\n&nbsp\;
LOCATION:Union County Community Center 129 Union County Rec Rd Blairsville\, GA
UID:e.256.25572
SEQUENCE:3
DTSTAMP:20260424T073933Z
URL:https://members.visitblairsvillega.com/events/details/accommodations-tax-101-utilizing-hotel-motel-tax-dollars-08-14-2014-25572
END:VEVENT

END:VCALENDAR
