BEGIN:VCALENDAR
VERSION:2.0
PRODID:-//ChamberMaster//Event Calendar 2.0//EN
METHOD:PUBLISH
X-PUBLISHED-TTL:P3D
REFRESH-INTERVAL:P3D
CALSCALE:GREGORIAN
BEGIN:VEVENT
DTSTART:20140313T213000Z
DTEND:20140313T223000Z
X-MICROSOFT-CDO-ALLDAYEVENT:FALSE
SUMMARY:Achieving Healthy Eating
DESCRIPTION:Indepth session on making the right food choices to begin a healthy lifestyle.
X-ALT-DESC;FMTTYPE=text/html:Indepth session on making the right food choices to begin a healthy lifestyle.
LOCATION:Union General Hospital\, 2nd Floor Classroom
UID:e.256.23297
SEQUENCE:3
DTSTAMP:20260424T152004Z
URL:https://members.visitblairsvillega.com/events/details/achieving-healthy-eating-03-13-2014-23297
END:VEVENT

END:VCALENDAR
