BEGIN:VCALENDAR
VERSION:2.0
PRODID:-//ChamberMaster//Event Calendar 2.0//EN
METHOD:PUBLISH
X-PUBLISHED-TTL:P3D
REFRESH-INTERVAL:P3D
CALSCALE:GREGORIAN
BEGIN:VEVENT
DTSTART:20260427T170000Z
DTEND:20260428T190000Z
X-MICROSOFT-CDO-ALLDAYEVENT:FALSE
SUMMARY:Acrylic Painting class: Welcome Basket of Flowers 2 days
DESCRIPTION:The Welcome Basket of Flowers class is a 2 Day event ( 2 hours each day) to create an 11 x 14 canvas done with acrylic paints.  Even if you have never held a paintbrush you will go home with your unique creation. Taught by Barbara Keyes so be prepared for fun\, learning and a door prize!   All supplies are included in the class fee of $45 (prepaid). Registration is limited to 8 students and the deadline is 4/22/2026.
X-ALT-DESC;FMTTYPE=text/html:The Welcome Basket of Flowers class is a <span style="color:#FF0000">2 Day event&nbsp\;</span>( 2 hours each day) to create an 11 x 14 canvas done with acrylic paints.&nbsp\; Even if you have never held a paintbrush you will go home with your unique creation. Taught by Barbara Keyes so be prepared for fun\, learning and a door prize!&nbsp\; &nbsp\;All supplies are included in the class fee of $45 <span style="color:#FF0000">(prepaid).</span> Registration is limited to 8 students and the deadline is 4/22/2026.
LOCATION:Calvary Alliance fellowship Hall 1390 HWY 76 Hiawassee\, Ga.
UID:e.256.143298
SEQUENCE:3
DTSTAMP:20260420T004625Z
URL:https://members.visitblairsvillega.com/events/details/acrylic-painting-class-welcome-basket-of-flowers-2-days-143298
END:VEVENT

END:VCALENDAR
