BEGIN:VCALENDAR
VERSION:2.0
PRODID:-//ChamberMaster//Event Calendar 2.0//EN
METHOD:PUBLISH
X-PUBLISHED-TTL:P3D
REFRESH-INTERVAL:P3D
CALSCALE:GREGORIAN
BEGIN:VEVENT
DTSTART:20150416T223000Z
DTEND:20150417T000000Z
X-MICROSOFT-CDO-ALLDAYEVENT:FALSE
SUMMARY:Adult Spelling Bee
DESCRIPTION:Adult Spelling Bee\n\nFree Admission for FUN and DOOR PRIZES!
X-ALT-DESC;FMTTYPE=text/html:Adult Spelling Bee<br />\nFree Admission for FUN and DOOR PRIZES!<br />\n<br />\n&nbsp\;
LOCATION:Haralson Civic Center Blairsville\, GA 30512
UID:e.256.39913
SEQUENCE:3
DTSTAMP:20260423T211918Z
URL:https://members.visitblairsvillega.com/events/details/adult-spelling-bee-04-16-2015-39913
END:VEVENT

END:VCALENDAR
