BEGIN:VCALENDAR
VERSION:2.0
PRODID:-//ChamberMaster//Event Calendar 2.0//EN
METHOD:PUBLISH
X-PUBLISHED-TTL:P3D
REFRESH-INTERVAL:P3D
CALSCALE:GREGORIAN
BEGIN:VEVENT
DTSTART:20160617T153000Z
DTEND:20160617T173000Z
X-MICROSOFT-CDO-ALLDAYEVENT:FALSE
SUMMARY:Affiliate/Partnership Expo NEGBOR
DESCRIPTION:The Northeast Georgia Board of Realtors  is again preparing for our annual Affiliate/Partnership Expo. Expo hours will be from 11:30AM   1:30PM. Lunch will be provided\, free of charge\, as well as your booth space. One table per affiliate will be available.  If you are interested in participating in the Expo this year\, please let us know by Friday\, May 13th.\n\n \n\nAlso we will need to know how many people will be working your table along with their names\, and if you will be bringing your own table skirt or if you would like to have one provided for you.
X-ALT-DESC;FMTTYPE=text/html:<span style="font-family: &quot\;Calibri&quot\;\,&quot\;sans-serif&quot\;\; font-size: 14pt\; mso-fareast-font-family: Calibri\; mso-fareast-theme-font: minor-latin\; mso-bidi-font-family: &quot\;Times New Roman&quot\;\; mso-ansi-language: EN-US\; mso-fareast-language: EN-US\; mso-bidi-language: AR-SA\;">The Northeast Georgia Board of Realtors</span><span style="font-family: &quot\;Times New Roman&quot\;\,&quot\;serif&quot\;\; font-size: 14pt\; mso-fareast-font-family: Calibri\; mso-fareast-theme-font: minor-latin\; mso-ansi-language: EN-US\; mso-fareast-language: EN-US\; mso-bidi-language: AR-SA\;">&reg\;</span><span style="font-family: &quot\;Calibri&quot\;\,&quot\;sans-serif&quot\;\; font-size: 14pt\; mso-fareast-font-family: Calibri\; mso-fareast-theme-font: minor-latin\; mso-bidi-font-family: &quot\;Times New Roman&quot\;\; mso-ansi-language: EN-US\; mso-fareast-language: EN-US\; mso-bidi-language: AR-SA\;"> is again preparing for our annual Affiliate/Partnership </span><span style="font-family: &quot\;Calibri&quot\;\,&quot\;sans-serif&quot\;\; font-size: 14pt\; mso-fareast-font-family: Calibri\; mso-fareast-theme-font: minor-latin\; mso-bidi-font-family: &quot\;Times New Roman&quot\;\; mso-ansi-language: EN-US\; mso-fareast-language: EN-US\; mso-bidi-language: AR-SA\;">Expo. </span><span style="font-size: 14pt\;"><span style="font-family: calibri\;">Expo hours will be from 11:30AM &ndash\; 1:30PM. Lunch will be provided\, free of charge\, as well as your booth space. One table per affiliate will be available.&nbsp\; </span></span><strong><span style="font-size: 14pt\;"><span style="color: red\;"><span style="font-family: calibri\;">If you are interested in participating in the Expo this year\, please let&nbsp\;us know by Friday\, May 13<sup>th</sup>.</span></span></span></strong><br />\n&nbsp\;<br />\n<span style="font-size: 14pt\;"><span style="font-family: calibri\;">Also we will need to know how many people will be working your table along with their names\, and if you will be bringing your own table skirt or if you would like to have one provided for you.</span></span><br />\n<br />\n&nbsp\;
LOCATION:Union County Community Center in Blairsville\, Georgia
UID:e.256.51026
SEQUENCE:3
DTSTAMP:20260420T203903Z
URL:https://members.visitblairsvillega.com/events/details/affiliate-partnership-expo-negbor-06-17-2016-51026
END:VEVENT

END:VCALENDAR
