BEGIN:VCALENDAR
VERSION:2.0
PRODID:-//ChamberMaster//Event Calendar 2.0//EN
METHOD:PUBLISH
X-PUBLISHED-TTL:P3D
REFRESH-INTERVAL:P3D
CALSCALE:GREGORIAN
BEGIN:VEVENT
DTSTART:20140904T193000Z
DTEND:20140904T203000Z
X-MICROSOFT-CDO-ALLDAYEVENT:FALSE
SUMMARY:After School Art Club
DESCRIPTION:Join us for fun afterschool where your kids ages 10-16 will develop their individual style and creativity while making new friends. All art supplies included.
X-ALT-DESC;FMTTYPE=text/html:Join us for fun afterschool where your kids ages 10-16 will develop their individual style and creativity while making new friends. All art supplies included.
LOCATION:Inspire Art Studio 51 Earnest St. Blairsville
UID:e.256.25499
SEQUENCE:3
DTSTAMP:20260424T073810Z
URL:https://members.visitblairsvillega.com/events/details/after-school-art-club-09-04-2014-25499
END:VEVENT

END:VCALENDAR
