BEGIN:VCALENDAR
VERSION:2.0
PRODID:-//ChamberMaster//Event Calendar 2.0//EN
METHOD:PUBLISH
X-PUBLISHED-TTL:P3D
REFRESH-INTERVAL:P3D
CALSCALE:GREGORIAN
BEGIN:VEVENT
DTSTART:20160707T163000Z
DTEND:20160707T173000Z
X-MICROSOFT-CDO-ALLDAYEVENT:FALSE
SUMMARY:Aging Gracefully Class
DESCRIPTION:Want to learn some ways to address incontinence\, wrinkles\, hair loss\, arthritis\, and more? Get some info and experience leading edge discoveries that you may have never heard before.
X-ALT-DESC;FMTTYPE=text/html:Want to learn some ways to address incontinence\, wrinkles\, hair loss\, arthritis\, and more? Get some info and experience leading edge discoveries that you may have never heard before.&nbsp\;
LOCATION:Natural Treatments for Brain and Body 64 Bracketts way Suite 9 Blairsville
UID:e.256.53019
SEQUENCE:3
DTSTAMP:20260420T182128Z
URL:https://members.visitblairsvillega.com/events/details/aging-gracefully-class-07-07-2016-53019
END:VEVENT

END:VCALENDAR
