BEGIN:VCALENDAR
VERSION:2.0
PRODID:-//ChamberMaster//Event Calendar 2.0//EN
METHOD:PUBLISH
X-PUBLISHED-TTL:P3D
REFRESH-INTERVAL:P3D
CALSCALE:GREGORIAN
BEGIN:VEVENT
DTSTART:20140712T130000Z
DTEND:20140712T180000Z
X-MICROSOFT-CDO-ALLDAYEVENT:FALSE
SUMMARY:Agricultural Field Day
DESCRIPTION:You've seen the beautiful corn growing on the side of the Gainesville Highway\, and you may have noticed the old rock fruit stand. But have you ever seen what is beyond the gate? We have been growing apples\, blueberries\, wine grapes and ornamental landscape plants since 1928. Come on out and see what goes on at this 415 acre University of Georgia research facility. Walking outdoors on hills and uneven surfaces will be required. Please dress appropriately for the weather and leave your doggie friends at home.
X-ALT-DESC;FMTTYPE=text/html:You&#39\;ve seen the beautiful corn growing on the side of the Gainesville Highway\, and you may have noticed the old rock fruit stand. But have you ever seen what is beyond the gate? We have been growing apples\, blueberries\, wine grapes and ornamental landscape plants since 1928. Come on out and see what goes on at this 415 acre University of Georgia research facility. Walking outdoors on hills and uneven surfaces will be required. Please dress appropriately for the weather and leave your doggie friends at home.
LOCATION:The University of Georgia's Mountain Research & Education Center
UID:e.256.24233
SEQUENCE:3
DTSTAMP:20260424T091808Z
URL:https://members.visitblairsvillega.com/events/details/agricultural-field-day-07-12-2014-24233
END:VEVENT

END:VCALENDAR
