BEGIN:VCALENDAR
VERSION:2.0
PRODID:-//ChamberMaster//Event Calendar 2.0//EN
METHOD:PUBLISH
X-PUBLISHED-TTL:P3D
REFRESH-INTERVAL:P3D
CALSCALE:GREGORIAN
BEGIN:VEVENT
DTSTART:20160412T120000Z
DTEND:20160412T180000Z
X-MICROSOFT-CDO-ALLDAYEVENT:FALSE
SUMMARY:Agritourism Symposium
DESCRIPTION:***CANCELED***\n\nPlan to join us for the 2nd annual Agritourism Symposium on Tuesday\, April 12\, 2016\, from 8am-2pm at the Union County Community Center in Blairsville\, GA. You will have the opportunity to:\n\n \n\n	Visit with other agritourism operators\n	Network with area resource partners\n	Learn about the latest in effective marketing strategies\n	Find out about on-site activities that work best\n	Listen to first-hand testimonials from peers in the business\n	Meet the members of the North Georgia Farm Trail cooperative\n\nThe Keynote Speaker will be Dr. Christian Hardigree\, the Director of the Michael A. Leven School of Culinary Sustainability and Hospitality\, and Professor of Culinary Sustainability and Hospitality at Kennesaw State University. She will speak on "Sustainability and the Impact on Tourism."
X-ALT-DESC;FMTTYPE=text/html:<span style="font-size: 10.5pt\;"><span style="font-family: arvo\;"><strong><span style="color:#B22222\;"><span style="font-size: 18px\;">***CANCELED***</span></span></strong><br />\n<span style="color: black\;">Plan to join us for the 2<sup>nd</sup> annual Agritourism Symposium on </span></span></span><strong><span style="font-size: 10.5pt\;"><span style="font-family: arvo\;"><span style="color: rgb(28\, 28\, 28)\;">Tuesday\, April 12\, 2016</span></span></span></strong><span style="font-size: 10.5pt\;"><span style="font-family: arvo\;"><span style="color: black\;">\, from </span></span></span><strong><span style="font-size: 10.5pt\;"><span style="font-family: arvo\;"><span style="color: rgb(28\, 28\, 28)\;">8am-2pm</span></span></span></strong><span style="font-size: 10.5pt\;"><span style="font-family: arvo\;"><span style="color: black\;"> at the </span></span></span><strong><span style="font-size: 10.5pt\;"><span style="font-family: arvo\;"><span style="color: rgb(28\, 28\, 28)\;"><a href="http://www.uccommunitycenter.com/" target="_blank"><span style="text-decoration: none\; text-underline: none\;"><span style="color: rgb(130\, 0\, 18)\;">Union County Community Center</span></span></a></span></span></span></strong><span style="font-size: 10.5pt\;"><span style="font-family: arvo\;"><span style="color: black\;"> in Blairsville\, GA. You will have the opportunity to:</span></span></span><br />\n&nbsp\;\n<ul>\n	<li style="background: white\;"><span style="font-size: 10.5pt\;"><span style="font-family: arvo\;"><span style="color: black\;">Visit with other agritourism operators</span></span></span></li>\n	<li style="background: white\;"><span style="font-size: 10.5pt\;"><span style="font-family: arvo\;"><span style="color: black\;">Network with area resource partners</span></span></span></li>\n	<li style="background: white\;"><span style="font-size: 10.5pt\;"><span style="font-family: arvo\;"><span style="color: black\;">Learn about the latest in effective marketing strategies</span></span></span></li>\n	<li style="background: white\;"><span style="font-size: 10.5pt\;"><span style="font-family: arvo\;"><span style="color: black\;">Find out about on-site activities that work best</span></span></span></li>\n	<li style="background: white\;"><span style="font-size: 10.5pt\;"><span style="font-family: arvo\;"><span style="color: black\;">Listen to first-hand testimonials from peers in the business</span></span></span></li>\n	<li style="background: white\;"><span style="font-size: 10.5pt\;"><span style="font-family: arvo\;"><span style="color: black\;">Meet the members of the North Georgia Farm Trail cooperative</span></span></span></li>\n</ul>\n<span style="font-size: 10.5pt\;"><span style="font-family: arvo\;"><span style="color: black\;">The Keynote Speaker will be </span></span></span><strong><span style="font-size: 10.5pt\;"><span style="font-family: arvo\;"><span style="color: rgb(28\, 28\, 28)\;">Dr. Christian Hardigree</span></span></span></strong><span style="font-size: 10.5pt\;"><span style="font-family: arvo\;"><span style="color: black\;">\, the Director of the Michael A. Leven School of Culinary Sustainability and Hospitality\, and Professor of Culinary Sustainability and Hospitality at Kennesaw State University. She will speak on &quot\;Sustainability and the Impact on Tourism.&quot\;</span></span></span><br />\n&nbsp\;
LOCATION:Union County Community Center Blairsville\, GA
UID:e.256.50541
SEQUENCE:3
DTSTAMP:20260421T002144Z
URL:https://members.visitblairsvillega.com/events/details/agritourism-symposium-04-12-2016-50541
END:VEVENT

END:VCALENDAR
