BEGIN:VCALENDAR
VERSION:2.0
PRODID:-//ChamberMaster//Event Calendar 2.0//EN
METHOD:PUBLISH
X-PUBLISHED-TTL:P3D
REFRESH-INTERVAL:P3D
CALSCALE:GREGORIAN
BEGIN:VEVENT
DTSTART:20140329T140000Z
DTEND:20140329T180000Z
X-MICROSOFT-CDO-ALLDAYEVENT:FALSE
SUMMARY:Airport Awareness
DESCRIPTION:This event has been created to increase the awareness of the current and proposed facilities at the Blairsville Municipal Airport to the local population\, the surrounding counties\, and the airports within a 150 mile radius of Blairsville.
X-ALT-DESC;FMTTYPE=text/html:<p align="LEFT">&nbsp\;</p>\n\n<p><font size="2">This event has been created to increase the awareness of the current and proposed facilities at the Blairsville Municipal Airport to the local population\, the surrounding counties\, and the airports within a 150 mile radius of Blairsville. </font></p>\n
LOCATION:Blairsville Municipal Airport
UID:e.256.23227
SEQUENCE:3
DTSTAMP:20260424T152005Z
URL:https://members.visitblairsvillega.com/events/details/airport-awareness-03-29-2014-23227
END:VEVENT

END:VCALENDAR
