BEGIN:VCALENDAR
VERSION:2.0
PRODID:-//ChamberMaster//Event Calendar 2.0//EN
METHOD:PUBLISH
X-PUBLISHED-TTL:P3D
REFRESH-INTERVAL:P3D
CALSCALE:GREGORIAN
BEGIN:VEVENT
DTSTART:20170819T140000Z
DTEND:20170819T150000Z
X-MICROSOFT-CDO-ALLDAYEVENT:FALSE
SUMMARY:Airport Terminal Ribbon Cutting
DESCRIPTION:The City of Blairsville is proud to announce the grand opening of the new Blairsville Airport terminal building.
X-ALT-DESC;FMTTYPE=text/html:The City of Blairsville is proud to announce the grand opening of the new Blairsville Airport terminal building.&nbsp\;
LOCATION:Blairsville Airport
UID:e.256.75632
SEQUENCE:3
DTSTAMP:20260419T210655Z
URL:https://members.visitblairsvillega.com/events/details/airport-terminal-ribbon-cutting-75632
END:VEVENT

END:VCALENDAR
