BEGIN:VCALENDAR
VERSION:2.0
PRODID:-//ChamberMaster//Event Calendar 2.0//EN
METHOD:PUBLISH
X-PUBLISHED-TTL:P3D
REFRESH-INTERVAL:P3D
CALSCALE:GREGORIAN
BEGIN:VEVENT
DTSTART:20151101T152500Z
DTEND:20151102T000000Z
X-MICROSOFT-CDO-ALLDAYEVENT:FALSE
SUMMARY:All Saints Lutheran Church - 25th Anniversary
DESCRIPTION:ALL SAINTS LUTHERAN CHURCH\, Blairsville\, GA\, is celebrating its 25th anniversary November 1\, 2015. 10:30 a.m.: Pastor Chuck Houska will be preaching for the Reformation/All Saints Day Worship.\n\n4:00 p.m.: 25th Anniversary Celebration. Rev. Gregory Walton\, President of the FL/GA District\, will be preaching. The celebration dinner following the worship service will recognize special people who helped start All Saints Lutheran Church. The fellowship hall will be dedicated in memory of her first pastor\, Rev. William Schultz.
X-ALT-DESC;FMTTYPE=text/html:ALL SAINTS LUTHERAN CHURCH\, Blairsville\, GA\, is celebrating its 25<sup>th</sup> anniversary November 1\, 2015. 10:30 a.m.: Pastor Chuck Houska will be preaching for the Reformation/All Saints Day Worship.<br />\n4:00 p.m.: 25<sup>th</sup> Anniversary Celebration. Rev. Gregory Walton\, President of the FL/GA District\, will be preaching. The celebration dinner following the worship service will recognize special people who helped start All Saints Lutheran Church. The fellowship hall will be dedicated in memory of her first pastor\, Rev. William Schultz.<br />\n&nbsp\;
LOCATION:All Saints Lutheran Church 83 Earl Shelton Rd. Blairsville
UID:e.256.44321
SEQUENCE:3
DTSTAMP:20260423T085543Z
URL:https://members.visitblairsvillega.com/events/details/all-saints-lutheran-church-25th-anniversary-11-01-2015-44321
END:VEVENT

END:VCALENDAR
