BEGIN:VCALENDAR
VERSION:2.0
PRODID:-//ChamberMaster//Event Calendar 2.0//EN
METHOD:PUBLISH
X-PUBLISHED-TTL:P3D
REFRESH-INTERVAL:P3D
CALSCALE:GREGORIAN
BEGIN:VEVENT
DTSTART:20151209T000000Z
DTEND:20151209T010000Z
X-MICROSOFT-CDO-ALLDAYEVENT:FALSE
SUMMARY:All Saints Lutheran Church Community Cantata: "A Noel Celebration"
DESCRIPTION:All Saints Lutheran Church would like to invite you to their Community Cantata:\n\n"A Noel Celebration". Join us for a service of hand bells\, songs\, and the message of our Savior's birth.\nA light reception will follow. No offering will be taken. Join us!
X-ALT-DESC;FMTTYPE=text/html:<h2 style="font-style: italic\;"><span style="font-size: 14px\;"><strong>All Saints Lutheran Church would like to invite you to their Community Cantata:</strong></span></h2>\n\n<h3 style="font-style: italic\;">&ldquo\;A Noel Celebration&rdquo\;. Join us for a service of hand bells\, songs\, and the message of our Savior&rsquo\;s birth.</h3>\n<strong>A light reception will follow. No offering will be taken. Join us!</strong><br />\n&nbsp\;
LOCATION:All Saints Lutheran Church 83 Earl Shelton Rd. Blairsville\, GA
UID:e.256.45114
SEQUENCE:3
DTSTAMP:20260421T074648Z
URL:https://members.visitblairsvillega.com/events/details/all-saints-lutheran-church-community-cantata-a-noel-celebration-12-08-2015-45114
END:VEVENT

END:VCALENDAR
