BEGIN:VCALENDAR
VERSION:2.0
PRODID:-//ChamberMaster//Event Calendar 2.0//EN
METHOD:PUBLISH
X-PUBLISHED-TTL:P3D
REFRESH-INTERVAL:P3D
CALSCALE:GREGORIAN
BEGIN:VEVENT
DTSTART:20150725T150000Z
DTEND:20150725T190000Z
X-MICROSOFT-CDO-ALLDAYEVENT:FALSE
SUMMARY:All Saints Lutheran Church Picnic
DESCRIPTION:Celebrating Pastor Dave Wesche's 10th Anniversary of his ordination.\n\n \n\nRecognizing Union County Sheriff Mack Mason for his service to our community.\n\n \n\nWe invite our neighbors and friends to join us as we reach out to our community to celebrate the gifts God has blessed us with over the past 25 years as a congregation. \n\n \n\nPulled pork\, hot dogs\, side dishes\, desserts\, and beverages will all be provided. Door prizes will be awarded\, and gifts given to our guests during the picnic.
X-ALT-DESC;FMTTYPE=text/html:<strong><span style="color:black"><span style="font-size:14.0pt">Celebrating Pastor Dave Wesche&rsquo\;s 10<sup>th</sup> Anniversary of his ordination.</span></span></strong><br />\n&nbsp\;<br />\n<strong><span style="color:black"><span style="font-size:14.0pt">Recognizing Union County Sheriff Mack Mason for his service to our community.</span></span></strong><br />\n&nbsp\;<br />\n<span style="color:black"><span style="font-size:14.0pt">We invite our neighbors and friends to join us as we reach out to our community to celebrate the gifts God has blessed us with over the past 25 years as a congregation.</span></span>&nbsp\;<br />\n&nbsp\;<br />\n<span style="color:black"><span style="font-size:14.0pt">Pulled pork\, hot dogs\, side dishes\, desserts\, and beverages will all be provided.</span></span> <span style="font-size:14.0pt">Door prizes will be awarded\, and gifts given to our guests during the picnic.</span><br />\n&nbsp\;
LOCATION:Meeks Park Pavilion (Across from the Senior Center. Next to North Georgia Technical College.)
UID:e.256.41264
SEQUENCE:3
DTSTAMP:20260423T151327Z
URL:https://members.visitblairsvillega.com/events/details/all-saints-lutheran-church-picnic-07-25-2015-41264
END:VEVENT

END:VCALENDAR
