BEGIN:VCALENDAR
VERSION:2.0
PRODID:-//ChamberMaster//Event Calendar 2.0//EN
METHOD:PUBLISH
X-PUBLISHED-TTL:P3D
REFRESH-INTERVAL:P3D
CALSCALE:GREGORIAN
BEGIN:VEVENT
DTSTART:20140415T220000Z
DTEND:20140416T010000Z
X-MICROSOFT-CDO-ALLDAYEVENT:FALSE
SUMMARY:All You Can Eat Crab Legs
DESCRIPTION:All you can eat crab legs at The Lodge
X-ALT-DESC;FMTTYPE=text/html:All you can eat crab legs at The Lodge
LOCATION:The Lodge at Copperhead
UID:e.256.23643
SEQUENCE:3
DTSTAMP:20260424T133611Z
URL:https://members.visitblairsvillega.com/events/details/all-you-can-eat-crab-legs-04-15-2014-23643
END:VEVENT

END:VCALENDAR
