BEGIN:VCALENDAR
VERSION:2.0
PRODID:-//ChamberMaster//Event Calendar 2.0//EN
METHOD:PUBLISH
X-PUBLISHED-TTL:P3D
REFRESH-INTERVAL:P3D
CALSCALE:GREGORIAN
BEGIN:VEVENT
DTSTART;VALUE=DATE:20150306
DTEND;VALUE=DATE:20150308
TRANSP:TRANSPARENT
X-MICROSOFT-CDO-ALLDAYEVENT:TRUE
SUMMARY:All You Can Eat Prime Rib!
DESCRIPTION:Steve's Steakhouse is offering All You Can Eat Prime Rib from 4pm - closing.\n\n\n\nAdult $11.69\n\nSenior Citizen (60 and older) $10.69
X-ALT-DESC;FMTTYPE=text/html:Steve&#39\;s Steakhouse is offering All You Can Eat Prime Rib from 4pm - closing.<br />\n<br />\nAdult $11.69<br />\nSenior Citizen (60 and older) $10.69
LOCATION:Steve's Steakhouse
UID:e.256.37667
SEQUENCE:3
DTSTAMP:20260423T212129Z
URL:https://members.visitblairsvillega.com/events/details/all-you-can-eat-prime-rib-03-06-2015-37667
END:VEVENT

END:VCALENDAR
