BEGIN:VCALENDAR
VERSION:2.0
PRODID:-//ChamberMaster//Event Calendar 2.0//EN
METHOD:PUBLISH
X-PUBLISHED-TTL:P3D
REFRESH-INTERVAL:P3D
CALSCALE:GREGORIAN
BEGIN:VEVENT
DTSTART:20141011T110000Z
DTEND:20141011T150000Z
X-MICROSOFT-CDO-ALLDAYEVENT:FALSE
SUMMARY:Allegheny Lodge Big County Breakfast
DESCRIPTION:Allegheny Masonic Lodge's Big Country Breakfast of Pancakes\, scrambled eggs\, grits\, bacon or sausage\, Coffee\, tea or milk. You won't leave hungry! Come in time to eat a big breakfast and walk out on the square to watch the Sorghum Parade!
X-ALT-DESC;FMTTYPE=text/html:Allegheny Masonic Lodge&#39\;s Big Country Breakfast of Pancakes\, scrambled eggs\, grits\, bacon or sausage\, Coffee\, tea or milk. You won&#39\;t leave hungry! Come in time to eat a big breakfast and walk out on the square to watch the Sorghum Parade!
LOCATION:60 Rogers Street\, Blairsville - 1/2 block off the square on Rogers Street -
UID:e.256.27433
SEQUENCE:3
DTSTAMP:20260424T061509Z
URL:https://members.visitblairsvillega.com/events/details/allegheny-lodge-big-county-breakfast-10-11-2014-27433
END:VEVENT

END:VCALENDAR
