BEGIN:VCALENDAR
VERSION:2.0
PRODID:-//ChamberMaster//Event Calendar 2.0//EN
METHOD:PUBLISH
X-PUBLISHED-TTL:P3D
REFRESH-INTERVAL:P3D
CALSCALE:GREGORIAN
BEGIN:VEVENT
DTSTART:20160515T160000Z
DTEND:20160515T160000Z
X-MICROSOFT-CDO-ALLDAYEVENT:FALSE
SUMMARY:Allegheny Masonic Lodge #114 2nd Annual Charity Disc Golf Tournament
DESCRIPTION:2nd Annual Alleghany Lodge 114 Charity Disc Golf Tournament! Sponsored by Discraft! Included in your registration fee is a free disc from Discraft and a free lunch! (BBQ Sandwich\, chips\, & drink) Please sign up in division based on average score! We want to try and keep the playing field level for all players! Door prizes will be given away at the end of the tournament! Sign up starts April 1st and the last day for registration is May 12th! All proceeds from this tournament will go to GA Masonic Charities! Any questions or comments please contact Ronny Benfield @ 706-400-2094 or email him at gaboy30582@gmail.com Online registration opens April 1st - May 12th: https://www.discgolfscene.com/tournaments/Alleghany_lodge_charity_event_singles_2016
X-ALT-DESC;FMTTYPE=text/html:2nd Annual Alleghany Lodge 114 Charity Disc Golf Tournament! Sponsored by Discraft! Included in your registration fee is a free disc from Discraft and a free lunch! (BBQ Sandwich\, chips\, &amp\; drink) Please sign up in division based on average score! We want to try and keep the playing field level for all players! Door prizes will be given away at the end of the tournament! Sign up starts April 1st and the last day for registration is May 12th! All proceeds from this tournament will go to GA Masonic Charities! Any questions or comments please contact Ronny Benfield @ 706-400-2094 or email him at gaboy30582@gmail.com Online registration opens April 1st - May 12th: https://www.discgolfscene.com/tournaments/Alleghany_lodge_charity_event_singles_2016
LOCATION:Meeks Park - Senior Center side (pavilion) Disc Golf Range
UID:e.256.50840
SEQUENCE:3
DTSTAMP:20260421T003038Z
URL:https://members.visitblairsvillega.com/events/details/allegheny-masonic-lodge-114-2nd-annual-charity-disc-golf-tournament-05-15-2016-50840
END:VEVENT

END:VCALENDAR
