BEGIN:VCALENDAR
VERSION:2.0
PRODID:-//ChamberMaster//Event Calendar 2.0//EN
METHOD:PUBLISH
X-PUBLISHED-TTL:P3D
REFRESH-INTERVAL:P3D
CALSCALE:GREGORIAN
BEGIN:VEVENT
DTSTART:20160422T150000Z
DTEND:20160422T190000Z
X-MICROSOFT-CDO-ALLDAYEVENT:FALSE
SUMMARY:Allegheny Masonic Lodge #114 Charity BBQ Fund Raiser
DESCRIPTION:Friday\, April 22nd -11:00 AM-3:00 PM Bar-B-Q sandwich\, chips & drink Eat in\, Take-outs available Whole smoked butts may be available call for price. For delivery within the city limits or more information: 706-400-2094
X-ALT-DESC;FMTTYPE=text/html:Friday\, April 22nd -11:00 AM-3:00 PM Bar-B-Q sandwich\, chips &amp\; drink Eat in\, Take-outs available Whole smoked butts may be available call for price. For delivery within the city limits or more information: 706-400-2094
LOCATION:Allegheny Masonic Lodge #114 60 Rogers Street - 1/2 block off the Historic square on Rogers Street - Fellowship Hall
UID:e.256.50907
SEQUENCE:3
DTSTAMP:20260421T002847Z
URL:https://members.visitblairsvillega.com/events/details/allegheny-masonic-lodge-114-charity-bbq-fund-raiser-04-22-2016-50907
END:VEVENT

END:VCALENDAR
