BEGIN:VCALENDAR
VERSION:2.0
PRODID:-//ChamberMaster//Event Calendar 2.0//EN
METHOD:PUBLISH
X-PUBLISHED-TTL:P3D
REFRESH-INTERVAL:P3D
CALSCALE:GREGORIAN
BEGIN:VEVENT
DTSTART:20140503T110000Z
DTEND:20140503T150000Z
X-MICROSOFT-CDO-ALLDAYEVENT:FALSE
SUMMARY:Allegheny Masonic Lodge Big Country Breakfast
DESCRIPTION:Big Country Breakfast at Allegheny Masonic Lodge come out and enjoy a great breakfast of pancakes\, scrambled eggs\, bacon\, sausage\, sausage gravy\, biscuits\, grits\, OJ\, coffee\, tea or milk.
X-ALT-DESC;FMTTYPE=text/html:Big Country Breakfast at Allegheny Masonic Lodge come out and enjoy a great breakfast of pancakes\, scrambled eggs\, bacon\, sausage\, sausage gravy\, biscuits\, grits\, OJ\, coffee\, tea or milk.
LOCATION:Allegheny Lodge #114 - 60B Rogers Street - 1/2 block of the square in Blairsville
UID:e.256.23651
SEQUENCE:3
DTSTAMP:20260424T122439Z
URL:https://members.visitblairsvillega.com/events/details/allegheny-masonic-lodge-big-country-breakfast-05-03-2014-23651
END:VEVENT

END:VCALENDAR
