BEGIN:VCALENDAR
VERSION:2.0
PRODID:-//ChamberMaster//Event Calendar 2.0//EN
METHOD:PUBLISH
X-PUBLISHED-TTL:P3D
REFRESH-INTERVAL:P3D
CALSCALE:GREGORIAN
BEGIN:VEVENT
DTSTART:20150704T110000Z
DTEND:20150704T150000Z
X-MICROSOFT-CDO-ALLDAYEVENT:FALSE
SUMMARY:Allegheny Masonic Lodge Big Country Breakfast
DESCRIPTION:Allegheny Masonic Lodge Big Country Breakfast - Scrambled eggs\, bacon\, sausage\, grits\, pancakes\, coffee\, tea or milk.
X-ALT-DESC;FMTTYPE=text/html:Allegheny Masonic Lodge Big Country Breakfast - Scrambled eggs\, bacon\, sausage\, grits\, pancakes\, coffee\, tea or milk.
LOCATION:60 Rogers Street 1/2 block off the downtown square in Blairsville on Rogers Street
UID:e.256.40421
SEQUENCE:3
DTSTAMP:20260423T151421Z
URL:https://members.visitblairsvillega.com/events/details/allegheny-masonic-lodge-big-country-breakfast-07-04-2015-40421
END:VEVENT

END:VCALENDAR
