BEGIN:VCALENDAR
VERSION:2.0
PRODID:-//ChamberMaster//Event Calendar 2.0//EN
METHOD:PUBLISH
X-PUBLISHED-TTL:P3D
REFRESH-INTERVAL:P3D
CALSCALE:GREGORIAN
BEGIN:VEVENT
DTSTART:20170304T120000Z
DTEND:20170304T160000Z
X-MICROSOFT-CDO-ALLDAYEVENT:FALSE
SUMMARY:Allegheny Masonic Lodge Big County Breakfast
DESCRIPTION:Allegheny Masonic Lodge "Big Country" Breakfast Date/Time: Saturday March 4th. 7am-11am Place : Allegheny Masonic Lodge 60 Rodgers Street Blairsville\, GA Cost:$ 7 Meal Includes: Eggs\,Bacon\,Sausage\,Grits\,Pancakes\, Biscuits and Gravy and beverage Please come out and enjoy a great breakfast\, fellowship and a morning without messing up the kitchen. All of our proceeds go to our Masonic Charities such as support for The Masonic Children's Home of Georgia and high school scholarships\, just to name a couple. Tickets are available if you would like to go ahead and purchase your tickets on advance. Folks this is for a great cause that many are unaware of that the Masons support. So please\, help us on this endeavor. Thank you in advance.
X-ALT-DESC;FMTTYPE=text/html:Allegheny Masonic Lodge &quot\;Big Country&quot\; Breakfast Date/Time: Saturday March 4th. 7am-11am Place : Allegheny Masonic Lodge 60 Rodgers Street Blairsville\, GA Cost:$ 7 Meal Includes: Eggs\,Bacon\,Sausage\,Grits\,Pancakes\, Biscuits and Gravy and beverage Please come out and enjoy a great breakfast\, fellowship and a morning without messing up the kitchen. All of our proceeds go to our Masonic Charities such as support for The Masonic Children&rsquo\;s Home of Georgia and high school scholarships\, just to name a couple. Tickets are available if you would like to go ahead and purchase your tickets on advance. Folks this is for a great cause that many are unaware of that the Masons support. So please\, help us on this endeavor. Thank you in advance.
LOCATION:Allegheny Masonic Lodge 60 Rodgers Street Blairsville\, GA (1/2 block of the historic square)
UID:e.256.68416
SEQUENCE:3
DTSTAMP:20260420T042404Z
URL:https://members.visitblairsvillega.com/events/details/allegheny-masonic-lodge-big-county-breakfast-68416
END:VEVENT

END:VCALENDAR
