BEGIN:VCALENDAR
VERSION:2.0
PRODID:-//ChamberMaster//Event Calendar 2.0//EN
METHOD:PUBLISH
X-PUBLISHED-TTL:P3D
REFRESH-INTERVAL:P3D
CALSCALE:GREGORIAN
BEGIN:VEVENT
DTSTART:20170402T120000Z
DTEND:20170402T180000Z
X-MICROSOFT-CDO-ALLDAYEVENT:FALSE
SUMMARY:Allegheny Masonic Lodge's 3rd Annual Disc Golf Fundraiser
DESCRIPTION:Allegheny Lodge #114 will be hosting its 3rd annual Disc Golf Fundraiser at Meeks Park on Sunday\, April 2nd at 8AM (Sign-In) / 9AM (Start). The price is $70 for DOUBLES play and each player will receive a "Players Pack" valued at (approx) $80. This is a great way to enjoy your sport\, learn a new one\, and support a worthwhile organization determined to help our community! Contact Ronny Benfield at (706)400-2094\, email him at gaboy30582@gmail.com OR sign up on www.discgolfscene.com Come join us for a fun-filled day!
X-ALT-DESC;FMTTYPE=text/html:Allegheny Lodge #114 will be hosting its 3rd annual Disc Golf Fundraiser at Meeks Park on Sunday\, April 2nd at 8AM (Sign-In) / 9AM (Start). The price is $70 for DOUBLES play and each player will receive a &quot\;Players Pack&quot\; valued at (approx) $80. This is a great way to enjoy your sport\, learn a new one\, and support a worthwhile organization determined to help our community! Contact Ronny Benfield at (706)400-2094\, email him at gaboy30582@gmail.com OR sign up on www.discgolfscene.com Come join us for a fun-filled day!
LOCATION:Meeks Park Disc Golf Course\, Blairsville
UID:e.256.68421
SEQUENCE:3
DTSTAMP:20260420T024137Z
URL:https://members.visitblairsvillega.com/events/details/allegheny-masonic-lodge-s-3rd-annual-disc-golf-fundraiser-68421
END:VEVENT

END:VCALENDAR
