BEGIN:VCALENDAR
VERSION:2.0
PRODID:-//ChamberMaster//Event Calendar 2.0//EN
METHOD:PUBLISH
X-PUBLISHED-TTL:P3D
REFRESH-INTERVAL:P3D
CALSCALE:GREGORIAN
BEGIN:VEVENT
DTSTART:20170428T150000Z
DTEND:20170428T190000Z
X-MICROSOFT-CDO-ALLDAYEVENT:FALSE
SUMMARY:Allegheny Masonic Lodge's Spring BBQ
DESCRIPTION:Allegheny Masonic Lodge #114 will be serving their incredible Spring BBQ on Friday\, April 28th from 11AM - 3PM. Take-out and deliveries can be made to the local area. Smoked butts will be for sale at $32 each available at 11:00 to be picked up at the lodge\, 60B Rogers Street\, one-half block of the historic square in Blairsville. Reservations for smoked butts would be appreciated by April 15. The BBQ plates will be smoked butt\, together with chips\, dessert and a drink for $7.00 per plate. Once again\, you will not go away hungry. For further information or reservations for smoked butt(s) please contact: WM "Whitey" White - (478) 997-1011\, Bobby Overstreet - (678) 409-7234 or Ivy Smith - (478) 731-6050
X-ALT-DESC;FMTTYPE=text/html:Allegheny Masonic Lodge #114 will be serving their incredible Spring BBQ on Friday\, April 28th from 11AM - 3PM. Take-out and deliveries can be made to the local area. Smoked butts will be for sale at $32 each available at 11:00 to be picked up at the lodge\, 60B Rogers Street\, one-half block of the historic square in Blairsville. Reservations for smoked butts would be appreciated by April 15. The BBQ plates will be smoked butt\, together with chips\, dessert and a drink for $7.00 per plate. Once again\, you will not go away hungry. For further information or reservations for smoked butt(s) please contact: WM &quot\;Whitey&quot\; White - (478) 997-1011\, Bobby Overstreet - (678) 409-7234 or Ivy Smith - (478) 731-6050
LOCATION:Allegheny Lodge Fellowship Hall 60-B Rogers Street\, Blairsville one-half block off the historic square
UID:e.256.69996
SEQUENCE:3
DTSTAMP:20260420T023852Z
URL:https://members.visitblairsvillega.com/events/details/allegheny-masonic-lodge-s-spring-bbq-69996
END:VEVENT

END:VCALENDAR
