BEGIN:VCALENDAR
VERSION:2.0
PRODID:-//ChamberMaster//Event Calendar 2.0//EN
METHOD:PUBLISH
X-PUBLISHED-TTL:P3D
REFRESH-INTERVAL:P3D
CALSCALE:GREGORIAN
BEGIN:VEVENT
DTSTART:20170929T140000Z
DTEND:20170930T140000Z
X-MICROSOFT-CDO-ALLDAYEVENT:FALSE
SUMMARY:Allegheny Masonic Lodge Smoked Pork Butt Fund Raiser
DESCRIPTION:Allegheny Masonic Lodge is having a "smoked whole pork butt" sale on Friday\, Sept 29th and Saturday\, Sept 30th. They are smoking whole butts for only $35\, so NO plates or slicing\, but the butt cooked to perfection just in time for your weekend football watching! We will even deliver within the city limits of Blairsville.
X-ALT-DESC;FMTTYPE=text/html:Allegheny Masonic Lodge is having a &quot\;smoked whole pork butt&quot\; sale on Friday\, Sept 29th and Saturday\, Sept 30th. They are smoking whole butts for only $35\, so NO plates or slicing\, but the butt cooked to perfection just in time for your weekend football watching! We will even deliver within the city limits of Blairsville.
LOCATION:Allegheny Masonic Lodge\, 60 Rogers Street 1/2 block off the square behind Cabin Coffee and the Rogers Building.
UID:e.256.75725
SEQUENCE:3
DTSTAMP:20260419T193022Z
URL:https://members.visitblairsvillega.com/events/details/allegheny-masonic-lodge-smoked-pork-butt-fund-raiser-75725
END:VEVENT

END:VCALENDAR
