BEGIN:VCALENDAR
VERSION:2.0
PRODID:-//ChamberMaster//Event Calendar 2.0//EN
METHOD:PUBLISH
X-PUBLISHED-TTL:P3D
REFRESH-INTERVAL:P3D
CALSCALE:GREGORIAN
BEGIN:VEVENT
DTSTART:20160914T130000Z
DTEND:20160914T150000Z
X-MICROSOFT-CDO-ALLDAYEVENT:FALSE
SUMMARY:Alternative Financing Workshop
DESCRIPTION:Alternative resources for gaining access to needed financing for your small business.\n\nHow traditional loans are not always the best source of funds\n\nParticipate in a questions and answer session
X-ALT-DESC;FMTTYPE=text/html:Alternative resources for gaining access to needed financing for your small business.<br />\nHow traditional loans are not always the best source of funds<br />\nParticipate in a questions and answer session
LOCATION:Jackson EMC 1000 Dawsonville Hwy\, Gainesville
UID:e.256.57721
SEQUENCE:3
DTSTAMP:20260420T161732Z
URL:https://members.visitblairsvillega.com/events/details/alternative-financing-workshop-57721
END:VEVENT

END:VCALENDAR
