BEGIN:VCALENDAR
VERSION:2.0
PRODID:-//ChamberMaster//Event Calendar 2.0//EN
METHOD:PUBLISH
X-PUBLISHED-TTL:P3D
REFRESH-INTERVAL:P3D
CALSCALE:GREGORIAN
BEGIN:VEVENT
DTSTART:20140614T140000Z
DTEND:20140614T153000Z
X-MICROSOFT-CDO-ALLDAYEVENT:FALSE
SUMMARY:Alzeimer's and Dementia Caregiver's Workshop
DESCRIPTION:Workshop will discuss types of dementia\, stages of Alheimer's dementia\, behaviors\, and medication review. Class will be taught by Susan Greene\, RN\, MSN\, GNP.
X-ALT-DESC;FMTTYPE=text/html:Workshop will discuss types of dementia\, stages of Alheimer&#39\;s dementia\, behaviors\, and medication review. Class will be taught by Susan Greene\, RN\, MSN\, GNP.
LOCATION:Union General Hospital\, 2nd Floor Classroom
UID:e.256.24534
SEQUENCE:3
DTSTAMP:20260424T105351Z
URL:https://members.visitblairsvillega.com/events/details/alzeimer-s-and-dementia-caregiver-s-workshop-06-14-2014-24534
END:VEVENT

END:VCALENDAR
