BEGIN:VCALENDAR
VERSION:2.0
PRODID:-//ChamberMaster//Event Calendar 2.0//EN
METHOD:PUBLISH
X-PUBLISHED-TTL:P3D
REFRESH-INTERVAL:P3D
CALSCALE:GREGORIAN
BEGIN:VEVENT
DTSTART:20150130T180000Z
DTEND:20150130T193000Z
X-MICROSOFT-CDO-ALLDAYEVENT:FALSE
SUMMARY:Alzheimer's and Dementia Caregivers Workshop
DESCRIPTION:Workshop Topics: Types of Dementia Stages of Alzheimer?s Dementia Behaviors Medication Review
X-ALT-DESC;FMTTYPE=text/html:Workshop Topics: Types of Dementia Stages of Alzheimer?s Dementia Behaviors Medication Review
LOCATION:Union General Hospital 2nd Floor Classroom
UID:e.256.36688
SEQUENCE:3
DTSTAMP:20260424T003615Z
URL:https://members.visitblairsvillega.com/events/details/alzheimer-s-and-dementia-caregivers-workshop-01-30-2015-36688
END:VEVENT

END:VCALENDAR
