BEGIN:VCALENDAR
VERSION:2.0
PRODID:-//ChamberMaster//Event Calendar 2.0//EN
METHOD:PUBLISH
X-PUBLISHED-TTL:P3D
REFRESH-INTERVAL:P3D
CALSCALE:GREGORIAN
BEGIN:VEVENT
DTSTART:20150320T180000Z
DTEND:20150320T193000Z
X-MICROSOFT-CDO-ALLDAYEVENT:FALSE
SUMMARY:Alzheimer's & Dementia Caregiver's Workshop
DESCRIPTION:Class for those that care for people or family members with dementia or Alzheimer disease. Topics will include: Types of dementia\, Stages of Alzheimer's dementia\, Behaviors\, and Medication Review
X-ALT-DESC;FMTTYPE=text/html:Class for those that care for people or family members with dementia or Alzheimer disease. Topics will include: Types of dementia\, Stages of Alzheimer&#39\;s dementia\, Behaviors\, and Medication Review
LOCATION:Chatuge Regional Hospital Hiawassee\, GA
UID:e.256.37666
SEQUENCE:3
DTSTAMP:20260423T230217Z
URL:https://members.visitblairsvillega.com/events/details/alzheimer-s-dementia-caregiver-s-workshop-03-20-2015-37666
END:VEVENT

END:VCALENDAR
