BEGIN:VCALENDAR
VERSION:2.0
PRODID:-//ChamberMaster//Event Calendar 2.0//EN
METHOD:PUBLISH
X-PUBLISHED-TTL:P3D
REFRESH-INTERVAL:P3D
CALSCALE:GREGORIAN
BEGIN:VEVENT
DTSTART:20160704T220000Z
DTEND:20160704T233000Z
X-MICROSOFT-CDO-ALLDAYEVENT:FALSE
SUMMARY:Alzheimer's Support Group
DESCRIPTION:*Canceled for July*\n\nThe Alzheimer's Association's Caregiver Support Groups are designed to provide emotional\, educational and social support for caregivers through regularly scheduled meetings. They help participants develop methods and skills to solve problems. The group encourages caregivers to maintain their own personal\, physical and emotional health\, as well as optimally care for the person with dementia.
X-ALT-DESC;FMTTYPE=text/html:<span style="font-size: 9pt"><strong><span style="color:#FF0000\;"><span style="font-family: arial\,sans-serif\;">*Canceled for July*</span></span></strong><br />\n<span style="color: #222222"><span style="font-family: arial\, sans-serif">The Alzheimer&#39\;s Association&#39\;s Caregiver Support Groups are designed to provide emotional\, educational and social support for caregivers through regularly scheduled meetings. They help participants develop methods and skills to solve problems. The group encourages caregivers to maintain their own personal\, physical and emotional health\, as well as optimally care for the person with dementia.&nbsp\;</span></span></span>
LOCATION:Cadence Bank\, 2nd Floor 351 Blue Ridge Street\, Blairsville\, GA 305
UID:e.256.15893
SEQUENCE:3
DTSTAMP:20260420T183608Z
URL:https://members.visitblairsvillega.com/events/details/alzheimer-s-support-group-07-04-2016-15893
END:VEVENT

END:VCALENDAR
