BEGIN:VCALENDAR
VERSION:2.0
PRODID:-//ChamberMaster//Event Calendar 2.0//EN
METHOD:PUBLISH
X-PUBLISHED-TTL:P3D
REFRESH-INTERVAL:P3D
CALSCALE:GREGORIAN
BEGIN:VEVENT
DTSTART:20150530T200000Z
DTEND:20150531T020000Z
X-MICROSOFT-CDO-ALLDAYEVENT:FALSE
SUMMARY:American Cancer Society Relay for Life
DESCRIPTION:Good Food\, Entertainment\, Unique Relay items for sale\, Survivor Lap\, Luminaria Ceremony and so much more...\nLuminaria Ceremony\n\nHonor\, support\, or remember someone you know who has battled cancer by dedicating a luminaria at your local event.As the sun sets at a Relay for Life event\, luminaria lining the track illuminate the night and a hush falls over the event that had been filled with the sounds of celebration. Relay For Life participants\, survivors and caregivers then gather together for the Luminaria Ceremony to remember loved ones lost to cancer and to honor those who have battled the disease.
X-ALT-DESC;FMTTYPE=text/html:Good Food\, Entertainment\, Unique Relay items for sale\, Survivor Lap\, Luminaria Ceremony and so much more...\n<div style="text-align: center\;"><em><strong>Luminaria Ceremony</strong></em></div>\n\n<div>Honor\, support\, or remember someone you know who has battled cancer by dedicating a luminaria at your&nbsp\;local event.As the sun sets at a Relay for Life event\, luminaria lining the track illuminate the night and a hush falls over&nbsp\;the event that had been filled with the sounds of celebration. Relay For Life participants\, survivors and caregivers then gather together for the Luminaria Ceremony to remember loved ones lost to cancer and to honor those who have battled the disease.</div>\n
LOCATION:Union County Farmer's Market 148 Old Smokey Road Blairsville\, GA
UID:e.256.27618
SEQUENCE:3
DTSTAMP:20260423T182749Z
URL:https://members.visitblairsvillega.com/events/details/american-cancer-society-relay-for-life-05-30-2015-27618
END:VEVENT

END:VCALENDAR
