BEGIN:VCALENDAR
VERSION:2.0
PRODID:-//ChamberMaster//Event Calendar 2.0//EN
METHOD:PUBLISH
X-PUBLISHED-TTL:P3D
REFRESH-INTERVAL:P3D
CALSCALE:GREGORIAN
BEGIN:VEVENT
DTSTART:20160419T223000Z
DTEND:20160420T000000Z
X-MICROSOFT-CDO-ALLDAYEVENT:FALSE
SUMMARY:American Legion Meeting
DESCRIPTION:American Legion meets every third Tuesday at 6:30pm in the Veterans Center.
X-ALT-DESC;FMTTYPE=text/html:American Legion meets every third&nbsp\;Tuesday at 6:30pm&nbsp\;in the&nbsp\;Veterans Center.<br />\n<br />\n&nbsp\;
LOCATION:Veterans Building ( Old Chamber Building ) 78 Old Blue Ridge Hwy Blairsville
UID:e.256.40596
SEQUENCE:3
DTSTAMP:20260421T002352Z
URL:https://members.visitblairsvillega.com/events/details/american-legion-meeting-04-19-2016-40596
END:VEVENT

END:VCALENDAR
