BEGIN:VCALENDAR
VERSION:2.0
PRODID:-//ChamberMaster//Event Calendar 2.0//EN
METHOD:PUBLISH
X-PUBLISHED-TTL:P3D
REFRESH-INTERVAL:P3D
CALSCALE:GREGORIAN
BEGIN:VEVENT
DTSTART:20131218T000000Z
DTEND:20131218T000000Z
X-MICROSOFT-CDO-ALLDAYEVENT:FALSE
SUMMARY:American Legion Monthly Meeting
DESCRIPTION:Third Tuesday of each month the American Legion meets at 7 pm at the Haralson Memorial Civic Center.
X-ALT-DESC;FMTTYPE=text/html:<span new="" style="font-family: \;" times=""><font color="#000000">Third Tuesday of each month the American Legion meets at 7 pm at the Haralson Memorial Civic Center.</font></span>
LOCATION:Haralson Memorial Civic Center 165 Welborn Street Blairsville
UID:e.256.18511
SEQUENCE:3
DTSTAMP:20260424T212534Z
URL:https://members.visitblairsvillega.com/events/details/american-legion-monthly-meeting-12-17-2013-18511
END:VEVENT

END:VCALENDAR
