BEGIN:VCALENDAR
VERSION:2.0
PRODID:-//ChamberMaster//Event Calendar 2.0//EN
METHOD:PUBLISH
X-PUBLISHED-TTL:P3D
REFRESH-INTERVAL:P3D
CALSCALE:GREGORIAN
BEGIN:VEVENT
DTSTART:20171104T233000Z
DTEND:20171105T013000Z
X-MICROSOFT-CDO-ALLDAYEVENT:FALSE
SUMMARY:An Evening with Dailey & Vincent
DESCRIPTION:TheDailey& Vincent duo has been hailed throughout the music industry as one of the most exciting\, reputable and elite Bluegrass bands in America\, having won numerous awards for their uniquely contagious and riveting music\, including:threeGrammyAward Nominations for the 2014 "Bluegrass Album of the Year\;" 14IBMAAwards (International Bluegrass Music Awards) as three-time "Entertainer of the Year\," three-time "Vocal Group of the Year" and "Album of the Year" and four Dove Awards with three "Bluegrass Album of the Year" awards and "Bluegrass Song of the Year." Dailey & Vincent continue to grace the stages of historic venues nationwide including Carnegie Hall\, The Grand Old Opry and the historic Ryman Auditorium\, where they sold out three consecutive shows and first debuted their music as a duo in 2007. With multiple appearances on PBS\, RFD-TV and CMT and over 120 shows a year\, Dailey and Vincent have been dubbed as the "Rockstars of Bluegrass."
X-ALT-DESC;FMTTYPE=text/html:TheDailey&amp\; Vincent duo has been hailed throughout the music industry as one of the most exciting\, reputable and elite Bluegrass bands in America\, having won numerous awards for their uniquely contagious and riveting music\, including:threeGrammyAward Nominations for the 2014 &quot\;Bluegrass Album of the Year\;&quot\; 14IBMAAwards (International Bluegrass Music Awards) as three-time &quot\;Entertainer of the Year\,&quot\; three-time &quot\;Vocal Group of the Year&quot\; and &quot\;Album of the Year&quot\; and four Dove Awards with three &quot\;Bluegrass Album of the Year&quot\; awards and &quot\;Bluegrass Song of the Year.&quot\; Dailey &amp\; Vincent continue to grace the stages of historic venues nationwide including Carnegie Hall\, The Grand Old Opry and the historic Ryman Auditorium\, where they sold out three consecutive shows and first debuted their music as a duo in 2007. With multiple appearances on PBS\, RFD-TV and CMT and over 120 shows a year\, Dailey and Vincent have been dubbed as the &quot\;Rockstars of Bluegrass.&quot\;
LOCATION:Smoky Mountain Center for the Performing Arts 1028 Georgia Road Franklin\, NC 28734
UID:e.256.69239
SEQUENCE:3
DTSTAMP:20260419T135841Z
URL:https://members.visitblairsvillega.com/events/details/an-evening-with-dailey-vincent-69239
END:VEVENT

END:VCALENDAR
