BEGIN:VCALENDAR
VERSION:2.0
PRODID:-//ChamberMaster//Event Calendar 2.0//EN
METHOD:PUBLISH
X-PUBLISHED-TTL:P3D
REFRESH-INTERVAL:P3D
CALSCALE:GREGORIAN
BEGIN:VEVENT
DTSTART:20140330T220000Z
DTEND:20140330T220000Z
X-MICROSOFT-CDO-ALLDAYEVENT:FALSE
SUMMARY:An evening with Davis & Dyer
DESCRIPTION:An evening with Davis & Dyer\, Highlight from Favorite Musicals. Sunday March 30th wine and hors-d\,oeuvres at 5:00pm and Performance at 6:00pm. Adult $20.00 and students $10.00.\n\nAuditions for Licklog Players' Jake's Women will take place on Saturday\, March 15th at 10am-1pm and Monday March 17th from 7pm-9pm\, 1 male and 7 females are needed.\n\nLicklog Players\, Inc 828-389-8632\n\nwww.licklogplayers.org
X-ALT-DESC;FMTTYPE=text/html:An evening with Davis &amp\; Dyer\, Highlight from Favorite Musicals. Sunday March 30th wine and hors-d\,oeuvres at 5:00pm and Performance at 6:00pm. Adult $20.00 and students $10.00.<br />\n<strong>Auditions for Licklog Players&#39\; Jake&#39\;s Women </strong>will take place on Saturday\, March 15th at 10am-1pm and Monday March 17th from 7pm-9pm\, 1 male and 7 females are needed.<br />\nLicklog Players\, Inc 828-389-8632<br />\nwww.licklogplayers.org
LOCATION:Licklog Players Theater 18 Creekside Circle Hayesville\, NC
UID:e.256.23248
SEQUENCE:3
DTSTAMP:20260424T152758Z
URL:https://members.visitblairsvillega.com/events/details/an-evening-with-davis-dyer-03-30-2014-23248
END:VEVENT

END:VCALENDAR
