BEGIN:VCALENDAR
VERSION:2.0
PRODID:-//ChamberMaster//Event Calendar 2.0//EN
METHOD:PUBLISH
X-PUBLISHED-TTL:P3D
REFRESH-INTERVAL:P3D
CALSCALE:GREGORIAN
BEGIN:VEVENT
DTSTART:20160730T233000Z
DTEND:20160731T013000Z
X-MICROSOFT-CDO-ALLDAYEVENT:FALSE
SUMMARY:An Evening with Kelly Pickler
DESCRIPTION:There are many ways to describe Kellie Pickler\, with spunky\, beautiful\, talented and charismatic just scratching the surface. But there is one word that ties them all together and brings them to life. Kellie Pickler is real. Few people speak or sing so transparently from their hearts. Few can bridge life and art\, story and song\, so vibrantly and compellingly. "My life is a country song\," she has said on occasion\, and no one who knows her or has watched her career evolve from her days as a breakout presence on American Idol would argue in the least. Over the course of three albums\, hundreds of concert appearances\, and a breathtaking 2013 win on ABC's Dancing With The Stars\, she has earned the admiration and affection of countless fans\, serving as both inspiration and role model.
X-ALT-DESC;FMTTYPE=text/html:There are many ways to describe Kellie Pickler\, with spunky\, beautiful\, talented and charismatic just scratching the surface. But there is one word that ties them all together and brings them to life. Kellie Pickler is real. Few people speak or sing so transparently from their hearts. Few can bridge life and art\, story and song\, so vibrantly and compellingly. &quot\;My life is a country song\,&quot\; she has said on occasion\, and no one who knows her or has watched her career evolve from her days as a breakout presence on American Idol would argue in the least. Over the course of three albums\, hundreds of concert appearances\, and a breathtaking 2013 win on ABC&#39\;s Dancing With The Stars\, she has earned the admiration and affection of countless fans\, serving as both inspiration and role model.
LOCATION:Smoky Mountain Center for the Performing Arts 1028 Georgia Road Franklin\, NC 28734
UID:e.256.49399
SEQUENCE:3
DTSTAMP:20260420T183930Z
URL:https://members.visitblairsvillega.com/events/details/an-evening-with-kelly-pickler-07-30-2016-49399
END:VEVENT

END:VCALENDAR
