BEGIN:VCALENDAR
VERSION:2.0
PRODID:-//ChamberMaster//Event Calendar 2.0//EN
METHOD:PUBLISH
X-PUBLISHED-TTL:P3D
REFRESH-INTERVAL:P3D
CALSCALE:GREGORIAN
BEGIN:VEVENT
DTSTART:20150210T230000Z
DTEND:20150211T013000Z
X-MICROSOFT-CDO-ALLDAYEVENT:FALSE
SUMMARY:An Evening with the STARS! 2015
DESCRIPTION:The Blairsville-Union County Chamber of Commerce\n\npresents\n\n \n\nAn Evening with the STARS!\n\n\n\nTHIS EVENT IS SOLD OUT.  PLEASE CONTACT THE CHAMBER TO BE PLACED ON A WAITING LIST.\n\n \n\nJoin us for an evening of celebration and recognition of Union County's shining stars!\n\n                                                STAR Students:\n\n             Rachel Irene Todd - Union County High School\n\n Victoria Lynn Nguyen - Mountain Education Charter High School \n\n\n                                       STAR Teachers:\n\n                  Mr. Tim Hunter - Union County High School\n\n            Mrs. Carrie Vandegriff - White County High School\n\n\n\nDinner\, Entertainment\, and Recognition of Awards\n\nBusiness Attire Suggested\n\n\n\nSeating by reservation only before February 6\, 2015.\n\n\n\nOur entertainers are Shannon York and Rob Harper.\n\n\n\nThe dinner buffet is from Copperhead Lodge and the menu is as follows:\n\nGrouper Margarita - panko crusted grouper topped with Margarita cream sauce.\n\n\n\nSeared Feta Pancetta Stuffed Chicken with a savory cream sauce.\n\n\n\nDuchess Potatoes\n\n\n\nSouthern Style Green Beans with bacon and onions\,\n\n\n\nFamily Style House Salad with signature Champagne Vinaigrette dressing.\n\n\n\nFamily Style Homemade biscuits with butter.\n\n\n\nSweet & Unsweetened Tea.\n\n\n\nAssorted Gourmet Cupcakes with coffee.\n\n\n\nSponsored by:\n\nJoey Swanson-Woodmen of the World
X-ALT-DESC;FMTTYPE=text/html:<div align="center" style="text-align: center\; font-size: 10pt\;">The Blairsville-Union County Chamber of Commerce<br />\npresents<br />\n&nbsp\;</div>\n\n<div align="center" style="text-align: center\; font-size: 10pt\;"><span style="font-size: 14pt\;"><strong>An Evening with the STARS!</strong></span></div>\n\n<div align="center" style="text-align: center\; font-size: 10pt\;"><br />\n<span style="font-size: 14pt\;"><strong><span style="color: rgb(255\, 0\, 0)\;">THIS EVENT IS SOLD OUT.&nbsp\; PLEASE CONTACT THE CHAMBER TO BE PLACED ON A WAITING LIST.</span></strong></span><br />\n&nbsp\;</div>\n\n<p align="center" style="font-size: 10pt\; margin-top: 0px\; margin-bottom: 0px\;"><span style="font-size: 14px\;">Join us for an evening of celebration and recognition of Union County&#39\;s shining stars!</span><br />\n&nbsp\;&nbsp\;&nbsp\;&nbsp\;&nbsp\;&nbsp\;&nbsp\;&nbsp\;&nbsp\;&nbsp\;&nbsp\;&nbsp\;&nbsp\;&nbsp\;&nbsp\;&nbsp\;&nbsp\;&nbsp\;&nbsp\;&nbsp\;&nbsp\;&nbsp\;&nbsp\;&nbsp\;&nbsp\;&nbsp\;&nbsp\;&nbsp\;&nbsp\;&nbsp\;&nbsp\;&nbsp\;&nbsp\;&nbsp\;&nbsp\;&nbsp\;&nbsp\;&nbsp\;&nbsp\;&nbsp\;&nbsp\;&nbsp\;&nbsp\;&nbsp\;&nbsp\;&nbsp\;&nbsp\;&nbsp\;<span style="font-size: 14px\;"><span style="font-family: arial\;">STAR Students:</span></span></p>\n\n<div><span style="font-family: arial\;"><span style="font-size: 14px\;">&nbsp\;&nbsp\;&nbsp\;&nbsp\;&nbsp\;&nbsp\;&nbsp\;&nbsp\;&nbsp\;&nbsp\;&nbsp\;&nbsp\; Rachel Irene Todd - Union County High School</span></span></div>\n\n<p style="font-size: 12pt\; margin-top: 0px\; margin-bottom: 0px\;"><span style="font-family: arial\;"><span style="font-size: 14px\;">&nbsp\;Victoria Lynn Nguyen - Mountain Education Charter High School&nbsp\;</span></span></p>\n<br />\n<span style="font-family: arial\;"><span style="font-size: 14px\;">&nbsp\;&nbsp\;&nbsp\;&nbsp\;&nbsp\;&nbsp\;&nbsp\;&nbsp\;&nbsp\;&nbsp\;&nbsp\;&nbsp\;&nbsp\;&nbsp\;&nbsp\;&nbsp\;&nbsp\;&nbsp\;&nbsp\;&nbsp\;&nbsp\;&nbsp\;&nbsp\;&nbsp\;&nbsp\;&nbsp\;&nbsp\;&nbsp\; &nbsp\; &nbsp\; &nbsp\; &nbsp\; &nbsp\; STAR Teachers:<br />\n&nbsp\;&nbsp\;&nbsp\;&nbsp\;&nbsp\;&nbsp\;&nbsp\;&nbsp\;&nbsp\;&nbsp\;&nbsp\;&nbsp\;&nbsp\;&nbsp\;&nbsp\;&nbsp\;&nbsp\; Mr. Tim Hunter - Union County High School</span></span>\n\n<p style="margin-top: 0px\; margin-bottom: 0px\;"><span style="font-family: arial\;"><span style="font-size: 14px\;">&nbsp\;&nbsp\;&nbsp\;&nbsp\;&nbsp\;&nbsp\;&nbsp\;&nbsp\;&nbsp\;&nbsp\;&nbsp\; Mrs. Carrie Vandegriff - White County High School</span></span></p>\n\n<p align="center" style="font-size: 10pt\; margin-top: 0px\; margin-bottom: 0px\;"><br />\n<span style="font-size: 14px\;">Dinner\, Entertainment\, and&nbsp\;Recognition of Awards<br />\nBusiness Attire Suggested<br />\n<br />\nSeating by reservation only before February 6\, 2015.<br />\n<br />\n<span style="font-family: calibri\,sans-serif\;">Our entertainers are Shannon York and Rob Harper.<br />\n<br />\n<strong>The dinner buffet is from Copperhead Lodge and the menu is as follows:</strong><br />\nGrouper Margarita - panko crusted grouper topped with Margarita cream sauce.<br />\n<br />\nSeared Feta Pancetta Stuffed Chicken with a savory cream sauce.<br />\n<br />\nDuchess Potatoes<br />\n<br />\nSouthern Style Green Beans with bacon and onions\,<br />\n<br />\nFamily Style House Salad with signature Champagne Vinaigrette dressing.<br />\n<br />\nFamily Style Homemade biscuits with butter.<br />\n<br />\nSweet &amp\; Unsweetened Tea.<br />\n<br />\nAssorted Gourmet Cupcakes with coffee.</span></span></p>\n\n<div _mce_style="text-align: center\;" align="center" style="text-align: center\;"><br />\n<span _mce_style="font-family: Verdana\,Geneva\,Arial\,Helvetica\,sans-serif\; font-size: 10pt\;" style="font-family: Verdana\,Geneva\,Arial\,Helvetica\,sans-serif\; font-size: 10pt\;"><strong>Sponsored by:</strong></span></div>\n\n<p _mce_style="margin-top: 0px\; margin-bottom: 0px\; font-family: Verdana\,Geneva\,Arial\,Helvetica\,sans-serif\; font-size: 10pt\; text-align: center\;" align="center" style="text-align: center\; font-family: Verdana\,Geneva\,Arial\,Helvetica\,sans-serif\; font-size: 10pt\; margin-top: 0px\; margin-bottom: 0px\;"><strong>Joey Swanson-Woodmen of the World</strong></p>\n
LOCATION:Union County Community Center 129 Union County Recreation Road
UID:e.256.33660
SEQUENCE:3
DTSTAMP:20260423T225649Z
URL:https://members.visitblairsvillega.com/events/details/an-evening-with-the-stars-2015-33660
END:VEVENT

END:VCALENDAR
