BEGIN:VCALENDAR
VERSION:2.0
PRODID:-//ChamberMaster//Event Calendar 2.0//EN
METHOD:PUBLISH
X-PUBLISHED-TTL:P3D
REFRESH-INTERVAL:P3D
CALSCALE:GREGORIAN
BEGIN:VEVENT
DTSTART:20160225T224500Z
DTEND:20160226T010000Z
X-MICROSOFT-CDO-ALLDAYEVENT:FALSE
SUMMARY:An Evening with the STARS! 2016
DESCRIPTION:The Blairsville-Union County Chamber of Commerce\n\npresents\n\n \n\nAn Evening with the STARS!\n\n \n\nJoin us for an evening of celebration and recognition of Union County's shining stars!\n\n                                                \n\nUCHS STAR Student: Anna Elizabeth Danek\n\n        UCHS STAR Teacher: Mrs. Debbie Nichols\n\n                           \n\nDinner\, Entertainment\, and Recognition of Awards\n\nBusiness Attire Suggested\n\n\n\nSeating by reservation only before February 19\, 2016.\n\n\n\nSponsored by: WoodmenLife\n\n\n\nCatering by: In Sister's Kitchen\n\nMenu:\n\nFirst Course:\n\nSalad of power greens with apples\, gorgonzola cheese\, sweet & spicy pecans\, apple brandy infused dried cranberries with a pomegranate vinaigrette.\n\nMain Course:\n\nSmoked pork loin with cherry cornbread dressing and\n\nCoq Au Vin\, chicken in a silky smoky herbal wine broth with mushrooms and pearl onions.\n\nLogan Turnpike Mill grits.\n\nEggplant\, tomato & mozzarella quiche.\n\nSugar snap peas.\n\nHouse made rolls & butter.\n\nDessert:\n\nStar Cake - A delectable layered surprise!\n\nSweet & unsweet tea & coffee.
X-ALT-DESC;FMTTYPE=text/html:<div align="center" style="text-align: center\; font-size: 10pt\;">The Blairsville-Union County Chamber of Commerce<br />\npresents<br />\n&nbsp\;</div>\n\n<div align="center" style="text-align: center\; font-size: 10pt\;"><span style="font-size: 14pt\;"><strong>An Evening with the STARS!</strong></span></div>\n\n<div align="center" style="text-align: center\; font-size: 10pt\;">&nbsp\;</div>\n\n<p align="center" style="font-size: 10pt\; margin-top: 0px\; margin-bottom: 0px\;"><span style="font-size: 14px\;">Join us for an evening of celebration and recognition of Union County&#39\;s shining stars!</span><br />\n&nbsp\;&nbsp\;&nbsp\;&nbsp\;&nbsp\;&nbsp\;&nbsp\;&nbsp\;&nbsp\;&nbsp\;&nbsp\;&nbsp\;&nbsp\;&nbsp\;&nbsp\;&nbsp\;&nbsp\;&nbsp\;&nbsp\;&nbsp\;&nbsp\;&nbsp\;&nbsp\;&nbsp\;&nbsp\;&nbsp\;&nbsp\;&nbsp\;&nbsp\;&nbsp\;&nbsp\;&nbsp\;&nbsp\;&nbsp\;&nbsp\;&nbsp\;&nbsp\;&nbsp\;&nbsp\;&nbsp\;&nbsp\;&nbsp\;&nbsp\;&nbsp\;&nbsp\;&nbsp\;&nbsp\;&nbsp\;</p>\n\n<p style="font-size: 10pt\; margin-top: 0px\; margin-bottom: 0px\; text-align: center\;"><span style="font-size: 14px\;"><span style="font-family: arial\;">UCHS STAR Student:</span></span><span style="font-family: arial\;"><span style="font-size: 14px\;"> Anna Elizabeth Danek</span></span></p>\n\n<p style="margin-top: 0px\; margin-bottom: 0px\; text-align: center\;"><span style="font-family: arial\;"><span style="font-size: 14px\;">&nbsp\;</span></span>&nbsp\;&nbsp\;&nbsp\;&nbsp\;&nbsp\;&nbsp\; <span style="font-family: arial\;"><span style="font-size: 14px\;">UCHS STAR Teacher: Mrs. Debbie Nichols</span></span></p>\n\n<p style="margin-top: 0px\; margin-bottom: 0px\;"><span style="font-family: arial\;"><span style="font-size: 14px\;">&nbsp\;&nbsp\;&nbsp\;&nbsp\;&nbsp\;&nbsp\;&nbsp\;&nbsp\;&nbsp\;&nbsp\;&nbsp\;&nbsp\;&nbsp\;&nbsp\;&nbsp\;&nbsp\; </span></span>&nbsp\;&nbsp\;&nbsp\;&nbsp\;&nbsp\;&nbsp\;&nbsp\;&nbsp\;<span style="font-family: arial\;"><span style="font-size: 14px\;">&nbsp\; </span></span></p>\n\n<p _mce_style="margin-top: 0px\; margin-bottom: 0px\; font-family: Verdana\,Geneva\,Arial\,Helvetica\,sans-serif\; font-size: 10pt\; text-align: center\;" align="center" style="text-align: center\; font-family: Verdana\,Geneva\,Arial\,Helvetica\,sans-serif\; font-size: 10pt\; margin-top: 0px\; margin-bottom: 0px\;"><span style="font-size: 14px\;">Dinner\, Entertainment\, and&nbsp\;Recognition of Awards<br />\nBusiness Attire Suggested<br />\n<br />\nSeating by reservation only before February 19\, 2016.</span><br />\n<br />\n<span _mce_style="font-family: Verdana\,Geneva\,Arial\,Helvetica\,sans-serif\; font-size: 10pt\;" style="font-family: Verdana\,Geneva\,Arial\,Helvetica\,sans-serif\; font-size: 10pt\;"><strong>Sponsored by: </strong></span><strong>WoodmenLife</strong><br />\n<br />\nCatering by: In Sister&#39\;s Kitchen<br />\n<em>Menu:<br />\nFirst Course:<br />\nSalad of power greens with apples\, gorgonzola cheese\, sweet &amp\; spicy pecans\, apple brandy infused dried cranberries with a pomegranate vinaigrette.<br />\nMain Course:<br />\nSmoked pork loin with cherry cornbread dressing and<br />\nCoq Au Vin\, chicken in a silky smoky herbal wine broth with mushrooms and pearl onions.<br />\nLogan Turnpike Mill grits.<br />\nEggplant\, tomato &amp\; mozzarella quiche.<br />\nSugar snap peas.<br />\nHouse made rolls &amp\; butter.<br />\nDessert:</em></p>\n\n<p _mce_style="margin-top: 0px\; margin-bottom: 0px\; font-family: Verdana\,Geneva\,Arial\,Helvetica\,sans-serif\; font-size: 10pt\; text-align: center\;" align="center" style="text-align: center\; font-family: Verdana\,Geneva\,Arial\,Helvetica\,sans-serif\; font-size: 10pt\; margin-top: 0px\; margin-bottom: 0px\;"><em>Star Cake - A delectable layered surprise!<br />\nSweet &amp\; unsweet tea &amp\; coffee.</em></p>\n
LOCATION:Union County Community Center 129 Union County Recreation Road
UID:e.256.46179
SEQUENCE:3
DTSTAMP:20260421T035828Z
URL:https://members.visitblairsvillega.com/events/details/an-evening-with-the-stars-2016-46179
END:VEVENT

END:VCALENDAR
