BEGIN:VCALENDAR
VERSION:2.0
PRODID:-//ChamberMaster//Event Calendar 2.0//EN
METHOD:PUBLISH
X-PUBLISHED-TTL:P3D
REFRESH-INTERVAL:P3D
CALSCALE:GREGORIAN
BEGIN:VEVENT
DTSTART:20160319T140000Z
DTEND:20160319T170000Z
X-MICROSOFT-CDO-ALLDAYEVENT:FALSE
SUMMARY:Annie Sloan Chalk Paint Class
DESCRIPTION:Learn the basic painting and waxing techniques\, all materials needed are supplied for class Contact Charmed Accents for registration at 706-781-6640\, Call 10:00 to 5:00 Tuesday thru Sat.
X-ALT-DESC;FMTTYPE=text/html:Learn the basic painting and waxing techniques\, all materials needed are supplied for class Contact Charmed Accents for registration at 706-781-6640\, Call 10:00 to 5:00 Tuesday thru Sat.
LOCATION:Main Street Shops next to Ware Chevrolet on Hwy. 515
UID:e.256.50401
SEQUENCE:3
DTSTAMP:20260421T021828Z
URL:https://members.visitblairsvillega.com/events/details/annie-sloan-chalk-paint-class-03-19-2016-50401
END:VEVENT

END:VCALENDAR
