BEGIN:VCALENDAR
VERSION:2.0
PRODID:-//ChamberMaster//Event Calendar 2.0//EN
METHOD:PUBLISH
X-PUBLISHED-TTL:P3D
REFRESH-INTERVAL:P3D
CALSCALE:GREGORIAN
BEGIN:VEVENT
DTSTART:20140725T170000Z
DTEND:20140725T200000Z
X-MICROSOFT-CDO-ALLDAYEVENT:FALSE
SUMMARY:Annie Sloan Chalk Paint (R) classes
DESCRIPTION:Painting and finishing with a Certified Instructor. Call Mary Ann at Charmed Accents-706-781-6640 for info.
X-ALT-DESC;FMTTYPE=text/html:Painting and finishing with a Certified Instructor. Call Mary Ann at Charmed Accents-706-781-6640 for info.
LOCATION:Main Street Shops Hwy 515 next to Ware Chevrolet
UID:e.256.25360
SEQUENCE:3
DTSTAMP:20260424T091750Z
URL:https://members.visitblairsvillega.com/events/details/annie-sloan-chalk-paint-r-classes-07-25-2014-25360
END:VEVENT

END:VCALENDAR
