BEGIN:VCALENDAR
VERSION:2.0
PRODID:-//ChamberMaster//Event Calendar 2.0//EN
METHOD:PUBLISH
X-PUBLISHED-TTL:P3D
REFRESH-INTERVAL:P3D
CALSCALE:GREGORIAN
BEGIN:VEVENT
DTSTART:20140815T170000Z
DTEND:20140815T200000Z
X-MICROSOFT-CDO-ALLDAYEVENT:FALSE
SUMMARY:Annie Sloan Chalk Paint(R)classes
DESCRIPTION:101 class. Learn the basic techniques for using Annie Sloan Chalk Paint (R) and wax.
X-ALT-DESC;FMTTYPE=text/html:101 class. Learn the basic techniques for using Annie Sloan Chalk Paint (R) and wax.&nbsp\;
LOCATION:Charmed Accents at Main Street Shops Blairsville
UID:e.256.25570
SEQUENCE:3
DTSTAMP:20260424T073654Z
URL:https://members.visitblairsvillega.com/events/details/annie-sloan-chalk-paint-r-classes-08-15-2014-25570
END:VEVENT

END:VCALENDAR
