BEGIN:VCALENDAR
VERSION:2.0
PRODID:-//ChamberMaster//Event Calendar 2.0//EN
METHOD:PUBLISH
X-PUBLISHED-TTL:P3D
REFRESH-INTERVAL:P3D
CALSCALE:GREGORIAN
BEGIN:VEVENT
DTSTART:20140816T140000Z
DTEND:20140816T170000Z
X-MICROSOFT-CDO-ALLDAYEVENT:FALSE
SUMMARY:Annie Sloan Chalk Paint(R)classes
DESCRIPTION:101 techniques for using Annie Sloan Chalk Paint(R) and waxes
X-ALT-DESC;FMTTYPE=text/html:101 techniques for using Annie Sloan Chalk Paint(R) and waxes
LOCATION:Charmed Accents at Main Street Shops\, Blairsville
UID:e.256.25571
SEQUENCE:3
DTSTAMP:20260424T073637Z
URL:https://members.visitblairsvillega.com/events/details/annie-sloan-chalk-paint-r-classes-08-16-2014-25571
END:VEVENT

END:VCALENDAR
