BEGIN:VCALENDAR
VERSION:2.0
PRODID:-//ChamberMaster//Event Calendar 2.0//EN
METHOD:PUBLISH
X-PUBLISHED-TTL:P3D
REFRESH-INTERVAL:P3D
CALSCALE:GREGORIAN
BEGIN:VEVENT
DTSTART:20140621T230000Z
DTEND:20140622T010000Z
X-MICROSOFT-CDO-ALLDAYEVENT:FALSE
SUMMARY:Annual Benefit Gala: A Rockin' Good Time
DESCRIPTION:Come dance the night away at our Annual Fundraiser Gala\, "A Rocking Good Time." Enjoy delicious food and drink\, live music and auction items while helping us raise money for our youth programming and various Art Center classes and events. Tickets are $45 for individuals and $80 for couples. Don't miss one of the biggest parties of the year!
X-ALT-DESC;FMTTYPE=text/html:<span style="font-size: 12pt\;"><span style="font-family: adobe caslon pro bold\,serif\;">Come dance the night away at our Annual Fundraiser Gala\, &ldquo\;A Rocking Good Time.&rdquo\; Enjoy delicious food and drink\, live music and auction items while helping us raise money for our youth programming and various Art Center classes and events. Tickets are $45 for individuals and $80 for couples. Don&rsquo\;t miss one of the biggest parties of the year!</span></span>
LOCATION:The Art Center\, 420 West Main Street\, Blue Ridge\, GA 30513
UID:e.256.23516
SEQUENCE:3
DTSTAMP:20260424T105259Z
URL:https://members.visitblairsvillega.com/events/details/annual-benefit-gala-a-rockin-good-time-06-21-2014-23516
END:VEVENT

END:VCALENDAR
