BEGIN:VCALENDAR
VERSION:2.0
PRODID:-//ChamberMaster//Event Calendar 2.0//EN
METHOD:PUBLISH
X-PUBLISHED-TTL:P3D
REFRESH-INTERVAL:P3D
CALSCALE:GREGORIAN
BEGIN:VEVENT
DTSTART;VALUE=DATE:20140830
DTEND;VALUE=DATE:20140831
TRANSP:TRANSPARENT
X-MICROSOFT-CDO-ALLDAYEVENT:TRUE
SUMMARY:Annual Book & Bake Sale
DESCRIPTION:Friends of the Libraries of Towns County Annual Book & Bake Sale\n\nMountain Regional Library - Young Harris\, GA\n\nTWO Bargain - packed Weekends!\n\n\n\nMember's Only Sale & Social: Thursday\, August 21 5pm - 7pm\n\nNot a member? You may join at the door that evening!\n\n\n\nPublic Sale Dates:\n\nFriday\, August 22 9am - 5pm Saturday\, August 23 10am - 2pm\n\nFriday\, August 29 9am - 5pm Saturday\, August 30 10am - 2pm
X-ALT-DESC;FMTTYPE=text/html:<strong>Friends of the Libraries of Towns County Annual Book &amp\; Bake Sale</strong><br />\nMountain Regional Library - Young Harris\, GA<br />\n<em><strong>TWO Bargain - packed Weekends!</strong></em><br />\n<br />\n<em><strong>Member&#39\;s Only Sale &amp\; Social</strong></em>: Thursday\, August 21 5pm - 7pm<br />\nNot a member? You may join at the door that evening!<br />\n<br />\n<em><strong>Public Sale Dates:</strong></em><br />\nFriday\, August 22 9am - 5pm&nbsp\;Saturday\, August 23 10am - 2pm<br />\nFriday\, August 29 9am - 5pm Saturday\, August 30 10am - 2pm
LOCATION:Mountain Regional Library Young Harris\, GA
UID:e.256.26158
SEQUENCE:3
DTSTAMP:20260424T073740Z
URL:https://members.visitblairsvillega.com/events/details/annual-book-bake-sale-08-30-2014-26158
END:VEVENT

END:VCALENDAR
