BEGIN:VCALENDAR
VERSION:2.0
PRODID:-//ChamberMaster//Event Calendar 2.0//EN
METHOD:PUBLISH
X-PUBLISHED-TTL:P3D
REFRESH-INTERVAL:P3D
CALSCALE:GREGORIAN
BEGIN:VEVENT
DTSTART:20171202T000000Z
DTEND:20171202T013000Z
X-MICROSOFT-CDO-ALLDAYEVENT:FALSE
SUMMARY:Annual Christmas Concert at the Old Courthouse
DESCRIPTION:The Union County Historical Society is honored to present the annual Christmas Concert by the North Georgia Chamber Symphony on Friday\, December 1\, at 7:00 P.M. in The Old Courthouse on the Square in Blairsville.  There is no better way to get into the holiday spirit and enjoy the atmosphere of Christmas than hearing the Christmas concert of the North Georgia Chamber Symphony.  Please join us in celebrating the Christmas season in Blairsville.
X-ALT-DESC;FMTTYPE=text/html:<p>The Union County Historical Society is honored to present the annual Christmas Concert by the North&nbsp\;Georgia Chamber Symphony on Friday\, December 1\, at 7:00 P.M. in The Old Courthouse on the Square in Blairsville.&nbsp\; There is no better way to get into the holiday spirit and enjoy the atmosphere of Christmas than hearing the Christmas concert of the North Georgia Chamber Symphony.&nbsp\; Please join us in celebrating the Christmas season in Blairsville.</p>\n
LOCATION:Historic Courthouse on the downtown Square in Blairsville\, GA
UID:e.256.77041
SEQUENCE:3
DTSTAMP:20260419T122302Z
URL:https://members.visitblairsvillega.com/events/details/annual-christmas-concert-at-the-old-courthouse-77041
END:VEVENT

END:VCALENDAR
