BEGIN:VCALENDAR
VERSION:2.0
PRODID:-//ChamberMaster//Event Calendar 2.0//EN
METHOD:PUBLISH
X-PUBLISHED-TTL:P3D
REFRESH-INTERVAL:P3D
CALSCALE:GREGORIAN
BEGIN:VEVENT
DTSTART:20151205T160000Z
DTEND:20151205T220000Z
X-MICROSOFT-CDO-ALLDAYEVENT:FALSE
SUMMARY:Annual Christmas Open House
DESCRIPTION:Hi Country Shops\n\nAnnual Christmas Open House\n\nThursday\, Dec. 3rd - join us for our business after hours from 5-7PM\n\nTyler McCollum will be drawing onsite and Dixie Hadley will sign any children's books purchased.\n\n \n\nAnnual Christmas Sale - Friday\, Dec. 4th & Saturday\, Dec. 5th\n\n11am-5pm
X-ALT-DESC;FMTTYPE=text/html:<div style="text-align: center\;"><strong><span style="font-size: 12px\;"><span style="font-family: times new roman\;">Hi Country Shops</span></span></strong></div>\n\n<div style="text-align: center\;"><span style="font-family: times new roman\;">Annual Christmas Open House</span></div>\n\n<div style="text-align: center\;"><span style="font-family: times new roman\;">Thursday\, Dec. 3rd - join us for our business after hours from 5-7PM</span></div>\n\n<div style="text-align: center\;"><span style="font-family: times new roman\;">Tyler McCollum will be drawing onsite and Dixie Hadley will sign any children&#39\;s books purchased.</span></div>\n\n<div style="text-align: center\;">&nbsp\;</div>\n\n<div style="text-align: center\;"><span style="font-family: times new roman\;">Annual Christmas Sale - Friday\, Dec. 4th&nbsp\;&amp\; Saturday\, Dec. 5th<br />\n11am-5pm</span></div>\n\n<div style="text-align: center\;"><br />\n&nbsp\;</div>\n
LOCATION:Hi Country Shops 3347 HWY 515 Blairsville\, GA
UID:e.256.44463
SEQUENCE:3
DTSTAMP:20260421T074152Z
URL:https://members.visitblairsvillega.com/events/details/annual-christmas-open-house-12-05-2015-44463
END:VEVENT

END:VCALENDAR
