BEGIN:VCALENDAR
VERSION:2.0
PRODID:-//ChamberMaster//Event Calendar 2.0//EN
METHOD:PUBLISH
X-PUBLISHED-TTL:P3D
REFRESH-INTERVAL:P3D
CALSCALE:GREGORIAN
BEGIN:VEVENT
DTSTART:20170603T130000Z
DTEND:20170603T200000Z
X-MICROSOFT-CDO-ALLDAYEVENT:FALSE
SUMMARY:Annual Daisy\, Art\, and Music Festival
DESCRIPTION:The Daisy\, Art\, and Music Festival is a fun event for the whole family! We will have vendors and artists from the area showcasing their products as well as yummy food and drinks available! This event is being held June 3\, 2017 from 9 AM to 4 PM.
X-ALT-DESC;FMTTYPE=text/html:The Daisy\, Art\, and Music Festival is a fun event for the whole family! We will have vendors and artists from the area showcasing their products as well as yummy food and drinks available! This event is being held June 3\, 2017 from 9 AM to 4 PM.<br />\n&nbsp\;
LOCATION:The Hackney Warehouse 11 Railroad Street Murphy\, NC 28906
UID:e.256.71813
SEQUENCE:3
DTSTAMP:20260420T010532Z
URL:https://members.visitblairsvillega.com/events/details/annual-daisy-art-and-music-festival-71813
END:VEVENT

END:VCALENDAR
